{"text_format":"1","workbook":"xlsx","n_sheets":2,"sheets":["ADMIN","ProjectPermissions"],"not_rendered":{"charts":0,"images":0,"macros":1,"external_links":0,"defined_names":0,"comments":0,"pivot_tables":0},"unopened":[],"bounds":{"document_bytes":16777216,"sheet_cells":100000,"rows_first":2000,"rows_last":500,"rows_between":2000,"halvings":0,"cell_chars":16384,"cell_head_chars":4096},"cells_cut":0,"cells_raw":0,"read":"whole","date_system":"1900"}

{"sheet":"ADMIN","index":0,"n_rows":22,"n_cols":6,"rows_kept":22,"cut":false,"hidden":true,"merged":[]}
["Company Name","Company Abbreviation","Access Groups","Access Group Name","Access Group Description","Actions"]
["DelDOT","DelDOT","Bridge (DOT)","Bridge","Bridge designers and managers","Add User"]
["AECOM","AEC","Road (DOT)","Road","Road designers and managers","Remove User"]
["Century Engineering","CEI","PM (Consultant)","PM","Project managers","Modify User"]
["Dovetail Civil Design, Inc.","DCD","Design (Consultants)","Design","Designers","Change Permissions"]
["Floura Teeter Landscape Architects","FTL","Bridge (Consultants)","Bridge","Bridge Designers","No Change"]
["Greenman-Pedersen, Inc.","GPI","Road (Consultants)","Road","Road Designers"]
["Haley Aldrich","HA","Survey (Consultants)","Survey","Surveyors"]
["Jacobs Engineering","JE","SW (Consultants)","SW","Stormwater Designers"]
["Johnson, Mirmiran and Thompson, Inc.","JMT","Traffic (Consultants)","Traffic","Traffic Designers"]
["Kleinfelder","KLF"]
["McCormick Taylor","MT"]
["Navarro and Wright","NW"]
["Pennoni","PEN"]
["Rybinski Engineering","RE"]
["Rummel, Klepper, and Kahl","RKK"]
["Rossi Engineering","ROS"]
["Schnabel Engineering","SE"]
["TORREngineering","TOR"]
["T.Y. Lin","TYL"]
["Wallace Montgomery","WM"]
["Whitman, Requardt and Associates","WRA"]

{"sheet":"ProjectPermissions","index":1,"n_rows":301,"n_cols":12,"rows_kept":301,"cut":false,"hidden":false,"merged":[]}
["Action","Project Number","Company Name","Access Group","User Email","User Name","UserList","UserList Description","Company Abbreviation","Access Group Name","User Check (VBA)","UserList Check (VBA)"]
["Add User","T123456789","DelDOT","Road (DOT)","David.Kleinot@Delaware.gov","David Kleinot",{"$f":"IF(ISBLANK(A2),\"\",B2&\"_\"&I2&\"_\"&J2)","v":"T123456789_DelDOT_Road"},{"$f":"IF(ISBLANK(A2),\"\",B2&\"_\"&I2&\" \"&VLOOKUP(D2,ADMIN!$C$2:$E$10,3,FALSE))","v":"T123456789_DelDOT Road designers and managers"},{"$f":"IF(ISBLANK(A2),\"\",VLOOKUP(C2,ADMIN!$A$2:$B$22,2,FALSE))","v":"DelDOT"},{"$f":"IF(ISBLANK(A2),\"\",VLOOKUP(D2,ADMIN!$C$2:$D$10,2,FALSE))","v":"Road"}]
[null,null,null,null,null,null,{"$f":"IF(ISBLANK(A3),\"\",B3&\"_\"&I3&\"_\"&J3)","v":""},{"$f":"IF(ISBLANK(A3),\"\",B3&\"_\"&I3&\" \"&VLOOKUP(D3,ADMIN!$C$2:$E$10,3,FALSE))","v":""},{"$f":"IF(ISBLANK(A3),\"\",VLOOKUP(C3,ADMIN!$A$2:$B$22,2,FALSE))","v":""},{"$f":"IF(ISBLANK(A3),\"\",VLOOKUP(D3,ADMIN!$C$2:$D$10,2,FALSE))","v":""}]
[null,null,null,null,null,null,"",{"$f":"IF(ISBLANK(A4),\"\",B4&\"_\"&I4&\" \"&VLOOKUP(D4,ADMIN!$C$2:$E$10,3,FALSE))","v":""},{"$f":"IF(ISBLANK(A4),\"\",VLOOKUP(C4,ADMIN!$A$2:$B$22,2,FALSE))","v":""},{"$f":"IF(ISBLANK(A4),\"\",VLOOKUP(D4,ADMIN!$C$2:$D$10,2,FALSE))","v":""}]
[null,null,null,null,null,null,"",{"$f":"IF(ISBLANK(A5),\"\",B5&\"_\"&I5&\" \"&VLOOKUP(D5,ADMIN!$C$2:$E$10,3,FALSE))","v":""},{"$f":"IF(ISBLANK(A5),\"\",VLOOKUP(C5,ADMIN!$A$2:$B$22,2,FALSE))","v":""},{"$f":"IF(ISBLANK(A5),\"\",VLOOKUP(D5,ADMIN!$C$2:$D$10,2,FALSE))","v":""}]
[null,null,null,null,null,null,"",{"$f":"IF(ISBLANK(A6),\"\",B6&\"_\"&I6&\" \"&VLOOKUP(D6,ADMIN!$C$2:$E$10,3,FALSE))","v":""},{"$f":"IF(ISBLANK(A6),\"\",VLOOKUP(C6,ADMIN!$A$2:$B$22,2,FALSE))","v":""},{"$f":"IF(ISBLANK(A6),\"\",VLOOKUP(D6,ADMIN!$C$2:$D$10,2,FALSE))","v":""}]
[null,null,null,null,null,null,"",{"$f":"IF(ISBLANK(A7),\"\",B7&\"_\"&I7&\" \"&VLOOKUP(D7,ADMIN!$C$2:$E$10,3,FALSE))","v":""},{"$f":"IF(ISBLANK(A7),\"\",VLOOKUP(C7,ADMIN!$A$2:$B$22,2,FALSE))","v":""},{"$f":"IF(ISBLANK(A7),\"\",VLOOKUP(D7,ADMIN!$C$2:$D$10,2,FALSE))","v":""}]
[null,null,null,null,null,null,"",{"$f":"IF(ISBLANK(A8),\"\",B8&\"_\"&I8&\" \"&VLOOKUP(D8,ADMIN!$C$2:$E$10,3,FALSE))","v":""},{"$f":"IF(ISBLANK(A8),\"\",VLOOKUP(C8,ADMIN!$A$2:$B$22,2,FALSE))","v":""},{"$f":"IF(ISBLANK(A8),\"\",VLOOKUP(D8,ADMIN!$C$2:$D$10,2,FALSE))","v":""}]
[null,null,null,null,null,null,"",{"$f":"IF(ISBLANK(A9),\"\",B9&\"_\"&I9&\" \"&VLOOKUP(D9,ADMIN!$C$2:$E$10,3,FALSE))","v":""},{"$f":"IF(ISBLANK(A9),\"\",VLOOKUP(C9,ADMIN!$A$2:$B$22,2,FALSE))","v":""},{"$f":"IF(ISBLANK(A9),\"\",VLOOKUP(D9,ADMIN!$C$2:$D$10,2,FALSE))","v":""}]
[null,null,null,null,null,null,"",{"$f":"IF(ISBLANK(A10),\"\",B10&\"_\"&I10&\" \"&VLOOKUP(D10,ADMIN!$C$2:$E$10,3,FALSE))","v":""},{"$f":"IF(ISBLANK(A10),\"\",VLOOKUP(C10,ADMIN!$A$2:$B$22,2,FALSE))","v":""},{"$f":"IF(ISBLANK(A10),\"\",VLOOKUP(D10,ADMIN!$C$2:$D$10,2,FALSE))","v":""}]
[null,null,null,null,null,null,"",{"$f":"IF(ISBLANK(A11),\"\",B11&\"_\"&I11&\" \"&VLOOKUP(D11,ADMIN!$C$2:$E$10,3,FALSE))","v":""},{"$f":"IF(ISBLANK(A11),\"\",VLOOKUP(C11,ADMIN!$A$2:$B$22,2,FALSE))","v":""},{"$f":"IF(ISBLANK(A11),\"\",VLOOKUP(D11,ADMIN!$C$2:$D$10,2,FALSE))","v":""}]
[null,null,null,null,null,null,"",{"$f":"IF(ISBLANK(A12),\"\",B12&\"_\"&I12&\" \"&VLOOKUP(D12,ADMIN!$C$2:$E$10,3,FALSE))","v":""},{"$f":"IF(ISBLANK(A12),\"\",VLOOKUP(C12,ADMIN!$A$2:$B$22,2,FALSE))","v":""},{"$f":"IF(ISBLANK(A12),\"\",VLOOKUP(D12,ADMIN!$C$2:$D$10,2,FALSE))","v":""}]
[null,null,null,null,null,null,"",{"$f":"IF(ISBLANK(A13),\"\",B13&\"_\"&I13&\" \"&VLOOKUP(D13,ADMIN!$C$2:$E$10,3,FALSE))","v":""},{"$f":"IF(ISBLANK(A13),\"\",VLOOKUP(C13,ADMIN!$A$2:$B$22,2,FALSE))","v":""},{"$f":"IF(ISBLANK(A13),\"\",VLOOKUP(D13,ADMIN!$C$2:$D$10,2,FALSE))","v":""}]
[null,null,null,null,null,null,"",{"$f":"IF(ISBLANK(A14),\"\",B14&\"_\"&I14&\" \"&VLOOKUP(D14,ADMIN!$C$2:$E$10,3,FALSE))","v":""},{"$f":"IF(ISBLANK(A14),\"\",VLOOKUP(C14,ADMIN!$A$2:$B$22,2,FALSE))","v":""},{"$f":"IF(ISBLANK(A14),\"\",VLOOKUP(D14,ADMIN!$C$2:$D$10,2,FALSE))","v":""}]
[null,null,null,null,null,null,"",{"$f":"IF(ISBLANK(A15),\"\",B15&\"_\"&I15&\" \"&VLOOKUP(D15,ADMIN!$C$2:$E$10,3,FALSE))","v":""},{"$f":"IF(ISBLANK(A15),\"\",VLOOKUP(C15,ADMIN!$A$2:$B$22,2,FALSE))","v":""},{"$f":"IF(ISBLANK(A15),\"\",VLOOKUP(D15,ADMIN!$C$2:$D$10,2,FALSE))","v":""}]
[null,null,null,null,null,null,"",{"$f":"IF(ISBLANK(A16),\"\",B16&\"_\"&I16&\" \"&VLOOKUP(D16,ADMIN!$C$2:$E$10,3,FALSE))","v":""},{"$f":"IF(ISBLANK(A16),\"\",VLOOKUP(C16,ADMIN!$A$2:$B$22,2,FALSE))","v":""},{"$f":"IF(ISBLANK(A16),\"\",VLOOKUP(D16,ADMIN!$C$2:$D$10,2,FALSE))","v":""}]
[null,null,null,null,null,null,"",{"$f":"IF(ISBLANK(A17),\"\",B17&\"_\"&I17&\" \"&VLOOKUP(D17,ADMIN!$C$2:$E$10,3,FALSE))","v":""},{"$f":"IF(ISBLANK(A17),\"\",VLOOKUP(C17,ADMIN!$A$2:$B$22,2,FALSE))","v":""},{"$f":"IF(ISBLANK(A17),\"\",VLOOKUP(D17,ADMIN!$C$2:$D$10,2,FALSE))","v":""}]
[null,null,null,null,null,null,"",{"$f":"IF(ISBLANK(A18),\"\",B18&\"_\"&I18&\" \"&VLOOKUP(D18,ADMIN!$C$2:$E$10,3,FALSE))","v":""},{"$f":"IF(ISBLANK(A18),\"\",VLOOKUP(C18,ADMIN!$A$2:$B$22,2,FALSE))","v":""},{"$f":"IF(ISBLANK(A18),\"\",VLOOKUP(D18,ADMIN!$C$2:$D$10,2,FALSE))","v":""}]
[null,null,null,null,null,null,"",{"$f":"IF(ISBLANK(A19),\"\",B19&\"_\"&I19&\" \"&VLOOKUP(D19,ADMIN!$C$2:$E$10,3,FALSE))","v":""},{"$f":"IF(ISBLANK(A19),\"\",VLOOKUP(C19,ADMIN!$A$2:$B$22,2,FALSE))","v":""},{"$f":"IF(ISBLANK(A19),\"\",VLOOKUP(D19,ADMIN!$C$2:$D$10,2,FALSE))","v":""}]
[null,null,null,null,null,null,"",{"$f":"IF(ISBLANK(A20),\"\",B20&\"_\"&I20&\" \"&VLOOKUP(D20,ADMIN!$C$2:$E$10,3,FALSE))","v":""},{"$f":"IF(ISBLANK(A20),\"\",VLOOKUP(C20,ADMIN!$A$2:$B$22,2,FALSE))","v":""},{"$f":"IF(ISBLANK(A20),\"\",VLOOKUP(D20,ADMIN!$C$2:$D$10,2,FALSE))","v":""}]
[null,null,null,null,null,null,"",{"$f":"IF(ISBLANK(A21),\"\",B21&\"_\"&I21&\" \"&VLOOKUP(D21,ADMIN!$C$2:$E$10,3,FALSE))","v":""},{"$f":"IF(ISBLANK(A21),\"\",VLOOKUP(C21,ADMIN!$A$2:$B$22,2,FALSE))","v":""},{"$f":"IF(ISBLANK(A21),\"\",VLOOKUP(D21,ADMIN!$C$2:$D$10,2,FALSE))","v":""}]
[null,null,null,null,null,null,"",{"$f":"IF(ISBLANK(A22),\"\",B22&\"_\"&I22&\" \"&VLOOKUP(D22,ADMIN!$C$2:$E$10,3,FALSE))","v":""},{"$f":"IF(ISBLANK(A22),\"\",VLOOKUP(C22,ADMIN!$A$2:$B$22,2,FALSE))","v":""},{"$f":"IF(ISBLANK(A22),\"\",VLOOKUP(D22,ADMIN!$C$2:$D$10,2,FALSE))","v":""}]
[null,null,null,null,null,null,"",{"$f":"IF(ISBLANK(A23),\"\",B23&\"_\"&I23&\" \"&VLOOKUP(D23,ADMIN!$C$2:$E$10,3,FALSE))","v":""},{"$f":"IF(ISBLANK(A23),\"\",VLOOKUP(C23,ADMIN!$A$2:$B$22,2,FALSE))","v":""},{"$f":"IF(ISBLANK(A23),\"\",VLOOKUP(D23,ADMIN!$C$2:$D$10,2,FALSE))","v":""}]
[null,null,null,null,null,null,"",{"$f":"IF(ISBLANK(A24),\"\",B24&\"_\"&I24&\" \"&VLOOKUP(D24,ADMIN!$C$2:$E$10,3,FALSE))","v":""},{"$f":"IF(ISBLANK(A24),\"\",VLOOKUP(C24,ADMIN!$A$2:$B$22,2,FALSE))","v":""},{"$f":"IF(ISBLANK(A24),\"\",VLOOKUP(D24,ADMIN!$C$2:$D$10,2,FALSE))","v":""}]
[null,null,null,null,null,null,"",{"$f":"IF(ISBLANK(A25),\"\",B25&\"_\"&I25&\" \"&VLOOKUP(D25,ADMIN!$C$2:$E$10,3,FALSE))","v":""},{"$f":"IF(ISBLANK(A25),\"\",VLOOKUP(C25,ADMIN!$A$2:$B$22,2,FALSE))","v":""},{"$f":"IF(ISBLANK(A25),\"\",VLOOKUP(D25,ADMIN!$C$2:$D$10,2,FALSE))","v":""}]
[null,null,null,null,null,null,"",{"$f":"IF(ISBLANK(A26),\"\",B26&\"_\"&I26&\" \"&VLOOKUP(D26,ADMIN!$C$2:$E$10,3,FALSE))","v":""},{"$f":"IF(ISBLANK(A26),\"\",VLOOKUP(C26,ADMIN!$A$2:$B$22,2,FALSE))","v":""},{"$f":"IF(ISBLANK(A26),\"\",VLOOKUP(D26,ADMIN!$C$2:$D$10,2,FALSE))","v":""}]
[null,null,null,null,null,null,"",{"$f":"IF(ISBLANK(A27),\"\",B27&\"_\"&I27&\" \"&VLOOKUP(D27,ADMIN!$C$2:$E$10,3,FALSE))","v":""},{"$f":"IF(ISBLANK(A27),\"\",VLOOKUP(C27,ADMIN!$A$2:$B$22,2,FALSE))","v":""},{"$f":"IF(ISBLANK(A27),\"\",VLOOKUP(D27,ADMIN!$C$2:$D$10,2,FALSE))","v":""}]
[null,null,null,null,null,null,"",{"$f":"IF(ISBLANK(A28),\"\",B28&\"_\"&I28&\" \"&VLOOKUP(D28,ADMIN!$C$2:$E$10,3,FALSE))","v":""},{"$f":"IF(ISBLANK(A28),\"\",VLOOKUP(C28,ADMIN!$A$2:$B$22,2,FALSE))","v":""},{"$f":"IF(ISBLANK(A28),\"\",VLOOKUP(D28,ADMIN!$C$2:$D$10,2,FALSE))","v":""}]
[null,null,null,null,null,null,"",{"$f":"IF(ISBLANK(A29),\"\",B29&\"_\"&I29&\" \"&VLOOKUP(D29,ADMIN!$C$2:$E$10,3,FALSE))","v":""},{"$f":"IF(ISBLANK(A29),\"\",VLOOKUP(C29,ADMIN!$A$2:$B$22,2,FALSE))","v":""},{"$f":"IF(ISBLANK(A29),\"\",VLOOKUP(D29,ADMIN!$C$2:$D$10,2,FALSE))","v":""}]
[null,null,null,null,null,null,"",{"$f":"IF(ISBLANK(A30),\"\",B30&\"_\"&I30&\" \"&VLOOKUP(D30,ADMIN!$C$2:$E$10,3,FALSE))","v":""},{"$f":"IF(ISBLANK(A30),\"\",VLOOKUP(C30,ADMIN!$A$2:$B$22,2,FALSE))","v":""},{"$f":"IF(ISBLANK(A30),\"\",VLOOKUP(D30,ADMIN!$C$2:$D$10,2,FALSE))","v":""}]
[null,null,null,null,null,null,"",{"$f":"IF(ISBLANK(A31),\"\",B31&\"_\"&I31&\" \"&VLOOKUP(D31,ADMIN!$C$2:$E$10,3,FALSE))","v":""},{"$f":"IF(ISBLANK(A31),\"\",VLOOKUP(C31,ADMIN!$A$2:$B$22,2,FALSE))","v":""},{"$f":"IF(ISBLANK(A31),\"\",VLOOKUP(D31,ADMIN!$C$2:$D$10,2,FALSE))","v":""}]
[null,null,null,null,null,null,"",{"$f":"IF(ISBLANK(A32),\"\",B32&\"_\"&I32&\" \"&VLOOKUP(D32,ADMIN!$C$2:$E$10,3,FALSE))","v":""},{"$f":"IF(ISBLANK(A32),\"\",VLOOKUP(C32,ADMIN!$A$2:$B$22,2,FALSE))","v":""},{"$f":"IF(ISBLANK(A32),\"\",VLOOKUP(D32,ADMIN!$C$2:$D$10,2,FALSE))","v":""}]
[null,null,null,null,null,null,"",{"$f":"IF(ISBLANK(A33),\"\",B33&\"_\"&I33&\" \"&VLOOKUP(D33,ADMIN!$C$2:$E$10,3,FALSE))","v":""},{"$f":"IF(ISBLANK(A33),\"\",VLOOKUP(C33,ADMIN!$A$2:$B$22,2,FALSE))","v":""},{"$f":"IF(ISBLANK(A33),\"\",VLOOKUP(D33,ADMIN!$C$2:$D$10,2,FALSE))","v":""}]
[null,null,null,null,null,null,"",{"$f":"IF(ISBLANK(A34),\"\",B34&\"_\"&I34&\" \"&VLOOKUP(D34,ADMIN!$C$2:$E$10,3,FALSE))","v":""},{"$f":"IF(ISBLANK(A34),\"\",VLOOKUP(C34,ADMIN!$A$2:$B$22,2,FALSE))","v":""},{"$f":"IF(ISBLANK(A34),\"\",VLOOKUP(D34,ADMIN!$C$2:$D$10,2,FALSE))","v":""}]
[null,null,null,null,null,null,"",{"$f":"IF(ISBLANK(A35),\"\",B35&\"_\"&I35&\" \"&VLOOKUP(D35,ADMIN!$C$2:$E$10,3,FALSE))","v":""},{"$f":"IF(ISBLANK(A35),\"\",VLOOKUP(C35,ADMIN!$A$2:$B$22,2,FALSE))","v":""},{"$f":"IF(ISBLANK(A35),\"\",VLOOKUP(D35,ADMIN!$C$2:$D$10,2,FALSE))","v":""}]
[null,null,null,null,null,null,"",{"$f":"IF(ISBLANK(A36),\"\",B36&\"_\"&I36&\" \"&VLOOKUP(D36,ADMIN!$C$2:$E$10,3,FALSE))","v":""},{"$f":"IF(ISBLANK(A36),\"\",VLOOKUP(C36,ADMIN!$A$2:$B$22,2,FALSE))","v":""},{"$f":"IF(ISBLANK(A36),\"\",VLOOKUP(D36,ADMIN!$C$2:$D$10,2,FALSE))","v":""}]
[null,null,null,null,null,null,"",{"$f":"IF(ISBLANK(A37),\"\",B37&\"_\"&I37&\" \"&VLOOKUP(D37,ADMIN!$C$2:$E$10,3,FALSE))","v":""},{"$f":"IF(ISBLANK(A37),\"\",VLOOKUP(C37,ADMIN!$A$2:$B$22,2,FALSE))","v":""},{"$f":"IF(ISBLANK(A37),\"\",VLOOKUP(D37,ADMIN!$C$2:$D$10,2,FALSE))","v":""}]
[null,null,null,null,null,null,"",{"$f":"IF(ISBLANK(A38),\"\",B38&\"_\"&I38&\" \"&VLOOKUP(D38,ADMIN!$C$2:$E$10,3,FALSE))","v":""},{"$f":"IF(ISBLANK(A38),\"\",VLOOKUP(C38,ADMIN!$A$2:$B$22,2,FALSE))","v":""},{"$f":"IF(ISBLANK(A38),\"\",VLOOKUP(D38,ADMIN!$C$2:$D$10,2,FALSE))","v":""}]
[null,null,null,null,null,null,"",{"$f":"IF(ISBLANK(A39),\"\",B39&\"_\"&I39&\" \"&VLOOKUP(D39,ADMIN!$C$2:$E$10,3,FALSE))","v":""},{"$f":"IF(ISBLANK(A39),\"\",VLOOKUP(C39,ADMIN!$A$2:$B$22,2,FALSE))","v":""},{"$f":"IF(ISBLANK(A39),\"\",VLOOKUP(D39,ADMIN!$C$2:$D$10,2,FALSE))","v":""}]
[null,null,null,null,null,null,"",{"$f":"IF(ISBLANK(A40),\"\",B40&\"_\"&I40&\" \"&VLOOKUP(D40,ADMIN!$C$2:$E$10,3,FALSE))","v":""},{"$f":"IF(ISBLANK(A40),\"\",VLOOKUP(C40,ADMIN!$A$2:$B$22,2,FALSE))","v":""},{"$f":"IF(ISBLANK(A40),\"\",VLOOKUP(D40,ADMIN!$C$2:$D$10,2,FALSE))","v":""}]
[null,null,null,null,null,null,"",{"$f":"IF(ISBLANK(A41),\"\",B41&\"_\"&I41&\" \"&VLOOKUP(D41,ADMIN!$C$2:$E$10,3,FALSE))","v":""},{"$f":"IF(ISBLANK(A41),\"\",VLOOKUP(C41,ADMIN!$A$2:$B$22,2,FALSE))","v":""},{"$f":"IF(ISBLANK(A41),\"\",VLOOKUP(D41,ADMIN!$C$2:$D$10,2,FALSE))","v":""}]
[null,null,null,null,null,null,"",{"$f":"IF(ISBLANK(A42),\"\",B42&\"_\"&I42&\" \"&VLOOKUP(D42,ADMIN!$C$2:$E$10,3,FALSE))","v":""},{"$f":"IF(ISBLANK(A42),\"\",VLOOKUP(C42,ADMIN!$A$2:$B$22,2,FALSE))","v":""},{"$f":"IF(ISBLANK(A42),\"\",VLOOKUP(D42,ADMIN!$C$2:$D$10,2,FALSE))","v":""}]
[null,null,null,null,null,null,"",{"$f":"IF(ISBLANK(A43),\"\",B43&\"_\"&I43&\" \"&VLOOKUP(D43,ADMIN!$C$2:$E$10,3,FALSE))","v":""},{"$f":"IF(ISBLANK(A43),\"\",VLOOKUP(C43,ADMIN!$A$2:$B$22,2,FALSE))","v":""},{"$f":"IF(ISBLANK(A43),\"\",VLOOKUP(D43,ADMIN!$C$2:$D$10,2,FALSE))","v":""}]
[null,null,null,null,null,null,"",{"$f":"IF(ISBLANK(A44),\"\",B44&\"_\"&I44&\" \"&VLOOKUP(D44,ADMIN!$C$2:$E$10,3,FALSE))","v":""},{"$f":"IF(ISBLANK(A44),\"\",VLOOKUP(C44,ADMIN!$A$2:$B$22,2,FALSE))","v":""},{"$f":"IF(ISBLANK(A44),\"\",VLOOKUP(D44,ADMIN!$C$2:$D$10,2,FALSE))","v":""}]
[null,null,null,null,null,null,"",{"$f":"IF(ISBLANK(A45),\"\",B45&\"_\"&I45&\" \"&VLOOKUP(D45,ADMIN!$C$2:$E$10,3,FALSE))","v":""},{"$f":"IF(ISBLANK(A45),\"\",VLOOKUP(C45,ADMIN!$A$2:$B$22,2,FALSE))","v":""},{"$f":"IF(ISBLANK(A45),\"\",VLOOKUP(D45,ADMIN!$C$2:$D$10,2,FALSE))","v":""}]
[null,null,null,null,null,null,"",{"$f":"IF(ISBLANK(A46),\"\",B46&\"_\"&I46&\" \"&VLOOKUP(D46,ADMIN!$C$2:$E$10,3,FALSE))","v":""},{"$f":"IF(ISBLANK(A46),\"\",VLOOKUP(C46,ADMIN!$A$2:$B$22,2,FALSE))","v":""},{"$f":"IF(ISBLANK(A46),\"\",VLOOKUP(D46,ADMIN!$C$2:$D$10,2,FALSE))","v":""}]
[null,null,null,null,null,null,"",{"$f":"IF(ISBLANK(A47),\"\",B47&\"_\"&I47&\" \"&VLOOKUP(D47,ADMIN!$C$2:$E$10,3,FALSE))","v":""},{"$f":"IF(ISBLANK(A47),\"\",VLOOKUP(C47,ADMIN!$A$2:$B$22,2,FALSE))","v":""},{"$f":"IF(ISBLANK(A47),\"\",VLOOKUP(D47,ADMIN!$C$2:$D$10,2,FALSE))","v":""}]
[null,null,null,null,null,null,"",{"$f":"IF(ISBLANK(A48),\"\",B48&\"_\"&I48&\" \"&VLOOKUP(D48,ADMIN!$C$2:$E$10,3,FALSE))","v":""},{"$f":"IF(ISBLANK(A48),\"\",VLOOKUP(C48,ADMIN!$A$2:$B$22,2,FALSE))","v":""},{"$f":"IF(ISBLANK(A48),\"\",VLOOKUP(D48,ADMIN!$C$2:$D$10,2,FALSE))","v":""}]
[null,null,null,null,null,null,"",{"$f":"IF(ISBLANK(A49),\"\",B49&\"_\"&I49&\" \"&VLOOKUP(D49,ADMIN!$C$2:$E$10,3,FALSE))","v":""},{"$f":"IF(ISBLANK(A49),\"\",VLOOKUP(C49,ADMIN!$A$2:$B$22,2,FALSE))","v":""},{"$f":"IF(ISBLANK(A49),\"\",VLOOKUP(D49,ADMIN!$C$2:$D$10,2,FALSE))","v":""}]
[null,null,null,null,null,null,"",{"$f":"IF(ISBLANK(A50),\"\",B50&\"_\"&I50&\" \"&VLOOKUP(D50,ADMIN!$C$2:$E$10,3,FALSE))","v":""},{"$f":"IF(ISBLANK(A50),\"\",VLOOKUP(C50,ADMIN!$A$2:$B$22,2,FALSE))","v":""},{"$f":"IF(ISBLANK(A50),\"\",VLOOKUP(D50,ADMIN!$C$2:$D$10,2,FALSE))","v":""}]
[null,null,null,null,null,null,"",{"$f":"IF(ISBLANK(A51),\"\",B51&\"_\"&I51&\" \"&VLOOKUP(D51,ADMIN!$C$2:$E$10,3,FALSE))","v":""},{"$f":"IF(ISBLANK(A51),\"\",VLOOKUP(C51,ADMIN!$A$2:$B$22,2,FALSE))","v":""},{"$f":"IF(ISBLANK(A51),\"\",VLOOKUP(D51,ADMIN!$C$2:$D$10,2,FALSE))","v":""}]
[null,null,null,null,null,null,"",{"$f":"IF(ISBLANK(A52),\"\",B52&\"_\"&I52&\" \"&VLOOKUP(D52,ADMIN!$C$2:$E$10,3,FALSE))","v":""},{"$f":"IF(ISBLANK(A52),\"\",VLOOKUP(C52,ADMIN!$A$2:$B$22,2,FALSE))","v":""},{"$f":"IF(ISBLANK(A52),\"\",VLOOKUP(D52,ADMIN!$C$2:$D$10,2,FALSE))","v":""}]
[null,null,null,null,null,null,"",{"$f":"IF(ISBLANK(A53),\"\",B53&\"_\"&I53&\" \"&VLOOKUP(D53,ADMIN!$C$2:$E$10,3,FALSE))","v":""},{"$f":"IF(ISBLANK(A53),\"\",VLOOKUP(C53,ADMIN!$A$2:$B$22,2,FALSE))","v":""},{"$f":"IF(ISBLANK(A53),\"\",VLOOKUP(D53,ADMIN!$C$2:$D$10,2,FALSE))","v":""}]
[null,null,null,null,null,null,"",{"$f":"IF(ISBLANK(A54),\"\",B54&\"_\"&I54&\" \"&VLOOKUP(D54,ADMIN!$C$2:$E$10,3,FALSE))","v":""},{"$f":"IF(ISBLANK(A54),\"\",VLOOKUP(C54,ADMIN!$A$2:$B$22,2,FALSE))","v":""},{"$f":"IF(ISBLANK(A54),\"\",VLOOKUP(D54,ADMIN!$C$2:$D$10,2,FALSE))","v":""}]
[null,null,null,null,null,null,"",{"$f":"IF(ISBLANK(A55),\"\",B55&\"_\"&I55&\" \"&VLOOKUP(D55,ADMIN!$C$2:$E$10,3,FALSE))","v":""},{"$f":"IF(ISBLANK(A55),\"\",VLOOKUP(C55,ADMIN!$A$2:$B$22,2,FALSE))","v":""},{"$f":"IF(ISBLANK(A55),\"\",VLOOKUP(D55,ADMIN!$C$2:$D$10,2,FALSE))","v":""}]
[null,null,null,null,null,null,"",{"$f":"IF(ISBLANK(A56),\"\",B56&\"_\"&I56&\" \"&VLOOKUP(D56,ADMIN!$C$2:$E$10,3,FALSE))","v":""},{"$f":"IF(ISBLANK(A56),\"\",VLOOKUP(C56,ADMIN!$A$2:$B$22,2,FALSE))","v":""},{"$f":"IF(ISBLANK(A56),\"\",VLOOKUP(D56,ADMIN!$C$2:$D$10,2,FALSE))","v":""}]
[null,null,null,null,null,null,"",{"$f":"IF(ISBLANK(A57),\"\",B57&\"_\"&I57&\" \"&VLOOKUP(D57,ADMIN!$C$2:$E$10,3,FALSE))","v":""},{"$f":"IF(ISBLANK(A57),\"\",VLOOKUP(C57,ADMIN!$A$2:$B$22,2,FALSE))","v":""},{"$f":"IF(ISBLANK(A57),\"\",VLOOKUP(D57,ADMIN!$C$2:$D$10,2,FALSE))","v":""}]
[null,null,null,null,null,null,"",{"$f":"IF(ISBLANK(A58),\"\",B58&\"_\"&I58&\" \"&VLOOKUP(D58,ADMIN!$C$2:$E$10,3,FALSE))","v":""},{"$f":"IF(ISBLANK(A58),\"\",VLOOKUP(C58,ADMIN!$A$2:$B$22,2,FALSE))","v":""},{"$f":"IF(ISBLANK(A58),\"\",VLOOKUP(D58,ADMIN!$C$2:$D$10,2,FALSE))","v":""}]
[null,null,null,null,null,null,"",{"$f":"IF(ISBLANK(A59),\"\",B59&\"_\"&I59&\" \"&VLOOKUP(D59,ADMIN!$C$2:$E$10,3,FALSE))","v":""},{"$f":"IF(ISBLANK(A59),\"\",VLOOKUP(C59,ADMIN!$A$2:$B$22,2,FALSE))","v":""},{"$f":"IF(ISBLANK(A59),\"\",VLOOKUP(D59,ADMIN!$C$2:$D$10,2,FALSE))","v":""}]
[null,null,null,null,null,null,"",{"$f":"IF(ISBLANK(A60),\"\",B60&\"_\"&I60&\" \"&VLOOKUP(D60,ADMIN!$C$2:$E$10,3,FALSE))","v":""},{"$f":"IF(ISBLANK(A60),\"\",VLOOKUP(C60,ADMIN!$A$2:$B$22,2,FALSE))","v":""},{"$f":"IF(ISBLANK(A60),\"\",VLOOKUP(D60,ADMIN!$C$2:$D$10,2,FALSE))","v":""}]
[null,null,null,null,null,null,"",{"$f":"IF(ISBLANK(A61),\"\",B61&\"_\"&I61&\" \"&VLOOKUP(D61,ADMIN!$C$2:$E$10,3,FALSE))","v":""},{"$f":"IF(ISBLANK(A61),\"\",VLOOKUP(C61,ADMIN!$A$2:$B$22,2,FALSE))","v":""},{"$f":"IF(ISBLANK(A61),\"\",VLOOKUP(D61,ADMIN!$C$2:$D$10,2,FALSE))","v":""}]
[null,null,null,null,null,null,"",{"$f":"IF(ISBLANK(A62),\"\",B62&\"_\"&I62&\" \"&VLOOKUP(D62,ADMIN!$C$2:$E$10,3,FALSE))","v":""},{"$f":"IF(ISBLANK(A62),\"\",VLOOKUP(C62,ADMIN!$A$2:$B$22,2,FALSE))","v":""},{"$f":"IF(ISBLANK(A62),\"\",VLOOKUP(D62,ADMIN!$C$2:$D$10,2,FALSE))","v":""}]
[null,null,null,null,null,null,"",{"$f":"IF(ISBLANK(A63),\"\",B63&\"_\"&I63&\" \"&VLOOKUP(D63,ADMIN!$C$2:$E$10,3,FALSE))","v":""},{"$f":"IF(ISBLANK(A63),\"\",VLOOKUP(C63,ADMIN!$A$2:$B$22,2,FALSE))","v":""},{"$f":"IF(ISBLANK(A63),\"\",VLOOKUP(D63,ADMIN!$C$2:$D$10,2,FALSE))","v":""}]
[null,null,null,null,null,null,"",{"$f":"IF(ISBLANK(A64),\"\",B64&\"_\"&I64&\" \"&VLOOKUP(D64,ADMIN!$C$2:$E$10,3,FALSE))","v":""},{"$f":"IF(ISBLANK(A64),\"\",VLOOKUP(C64,ADMIN!$A$2:$B$22,2,FALSE))","v":""},{"$f":"IF(ISBLANK(A64),\"\",VLOOKUP(D64,ADMIN!$C$2:$D$10,2,FALSE))","v":""}]
[null,null,null,null,null,null,"",{"$f":"IF(ISBLANK(A65),\"\",B65&\"_\"&I65&\" \"&VLOOKUP(D65,ADMIN!$C$2:$E$10,3,FALSE))","v":""},{"$f":"IF(ISBLANK(A65),\"\",VLOOKUP(C65,ADMIN!$A$2:$B$22,2,FALSE))","v":""},{"$f":"IF(ISBLANK(A65),\"\",VLOOKUP(D65,ADMIN!$C$2:$D$10,2,FALSE))","v":""}]
[null,null,null,null,null,null,"",{"$f":"IF(ISBLANK(A66),\"\",B66&\"_\"&I66&\" \"&VLOOKUP(D66,ADMIN!$C$2:$E$10,3,FALSE))","v":""},{"$f":"IF(ISBLANK(A66),\"\",VLOOKUP(C66,ADMIN!$A$2:$B$22,2,FALSE))","v":""},{"$f":"IF(ISBLANK(A66),\"\",VLOOKUP(D66,ADMIN!$C$2:$D$10,2,FALSE))","v":""}]
[null,null,null,null,null,null,{"$f":"IF(ISBLANK(A67),\"\",B67&\"_\"&I67&\"_\"&J67)","v":""},{"$f":"IF(ISBLANK(A67),\"\",B67&\"_\"&I67&\" \"&VLOOKUP(D67,ADMIN!$C$2:$E$10,3,FALSE))","v":""},{"$f":"IF(ISBLANK(A67),\"\",VLOOKUP(C67,ADMIN!$A$2:$B$22,2,FALSE))","v":""},{"$f":"IF(ISBLANK(A67),\"\",VLOOKUP(D67,ADMIN!$C$2:$D$10,2,FALSE))","v":""}]
[null,null,null,null,null,null,"",{"$f":"IF(ISBLANK(A68),\"\",B68&\"_\"&I68&\" \"&VLOOKUP(D68,ADMIN!$C$2:$E$10,3,FALSE))","v":""},{"$f":"IF(ISBLANK(A68),\"\",VLOOKUP(C68,ADMIN!$A$2:$B$22,2,FALSE))","v":""},{"$f":"IF(ISBLANK(A68),\"\",VLOOKUP(D68,ADMIN!$C$2:$D$10,2,FALSE))","v":""}]
[null,null,null,null,null,null,"",{"$f":"IF(ISBLANK(A69),\"\",B69&\"_\"&I69&\" \"&VLOOKUP(D69,ADMIN!$C$2:$E$10,3,FALSE))","v":""},{"$f":"IF(ISBLANK(A69),\"\",VLOOKUP(C69,ADMIN!$A$2:$B$22,2,FALSE))","v":""},{"$f":"IF(ISBLANK(A69),\"\",VLOOKUP(D69,ADMIN!$C$2:$D$10,2,FALSE))","v":""}]
[null,null,null,null,null,null,"",{"$f":"IF(ISBLANK(A70),\"\",B70&\"_\"&I70&\" \"&VLOOKUP(D70,ADMIN!$C$2:$E$10,3,FALSE))","v":""},{"$f":"IF(ISBLANK(A70),\"\",VLOOKUP(C70,ADMIN!$A$2:$B$22,2,FALSE))","v":""},{"$f":"IF(ISBLANK(A70),\"\",VLOOKUP(D70,ADMIN!$C$2:$D$10,2,FALSE))","v":""}]
[null,null,null,null,null,null,"",{"$f":"IF(ISBLANK(A71),\"\",B71&\"_\"&I71&\" \"&VLOOKUP(D71,ADMIN!$C$2:$E$10,3,FALSE))","v":""},{"$f":"IF(ISBLANK(A71),\"\",VLOOKUP(C71,ADMIN!$A$2:$B$22,2,FALSE))","v":""},{"$f":"IF(ISBLANK(A71),\"\",VLOOKUP(D71,ADMIN!$C$2:$D$10,2,FALSE))","v":""}]
[null,null,null,null,null,null,"",{"$f":"IF(ISBLANK(A72),\"\",B72&\"_\"&I72&\" \"&VLOOKUP(D72,ADMIN!$C$2:$E$10,3,FALSE))","v":""},{"$f":"IF(ISBLANK(A72),\"\",VLOOKUP(C72,ADMIN!$A$2:$B$22,2,FALSE))","v":""},{"$f":"IF(ISBLANK(A72),\"\",VLOOKUP(D72,ADMIN!$C$2:$D$10,2,FALSE))","v":""}]
[null,null,null,null,null,null,"",{"$f":"IF(ISBLANK(A73),\"\",B73&\"_\"&I73&\" \"&VLOOKUP(D73,ADMIN!$C$2:$E$10,3,FALSE))","v":""},{"$f":"IF(ISBLANK(A73),\"\",VLOOKUP(C73,ADMIN!$A$2:$B$22,2,FALSE))","v":""},{"$f":"IF(ISBLANK(A73),\"\",VLOOKUP(D73,ADMIN!$C$2:$D$10,2,FALSE))","v":""}]
[null,null,null,null,null,null,"",{"$f":"IF(ISBLANK(A74),\"\",B74&\"_\"&I74&\" \"&VLOOKUP(D74,ADMIN!$C$2:$E$10,3,FALSE))","v":""},{"$f":"IF(ISBLANK(A74),\"\",VLOOKUP(C74,ADMIN!$A$2:$B$22,2,FALSE))","v":""},{"$f":"IF(ISBLANK(A74),\"\",VLOOKUP(D74,ADMIN!$C$2:$D$10,2,FALSE))","v":""}]
[null,null,null,null,null,null,"",{"$f":"IF(ISBLANK(A75),\"\",B75&\"_\"&I75&\" \"&VLOOKUP(D75,ADMIN!$C$2:$E$10,3,FALSE))","v":""},{"$f":"IF(ISBLANK(A75),\"\",VLOOKUP(C75,ADMIN!$A$2:$B$22,2,FALSE))","v":""},{"$f":"IF(ISBLANK(A75),\"\",VLOOKUP(D75,ADMIN!$C$2:$D$10,2,FALSE))","v":""}]
[null,null,null,null,null,null,"",{"$f":"IF(ISBLANK(A76),\"\",B76&\"_\"&I76&\" \"&VLOOKUP(D76,ADMIN!$C$2:$E$10,3,FALSE))","v":""},{"$f":"IF(ISBLANK(A76),\"\",VLOOKUP(C76,ADMIN!$A$2:$B$22,2,FALSE))","v":""},{"$f":"IF(ISBLANK(A76),\"\",VLOOKUP(D76,ADMIN!$C$2:$D$10,2,FALSE))","v":""}]
[null,null,null,null,null,null,"",{"$f":"IF(ISBLANK(A77),\"\",B77&\"_\"&I77&\" \"&VLOOKUP(D77,ADMIN!$C$2:$E$10,3,FALSE))","v":""},{"$f":"IF(ISBLANK(A77),\"\",VLOOKUP(C77,ADMIN!$A$2:$B$22,2,FALSE))","v":""},{"$f":"IF(ISBLANK(A77),\"\",VLOOKUP(D77,ADMIN!$C$2:$D$10,2,FALSE))","v":""}]
[null,null,null,null,null,null,"",{"$f":"IF(ISBLANK(A78),\"\",B78&\"_\"&I78&\" \"&VLOOKUP(D78,ADMIN!$C$2:$E$10,3,FALSE))","v":""},{"$f":"IF(ISBLANK(A78),\"\",VLOOKUP(C78,ADMIN!$A$2:$B$22,2,FALSE))","v":""},{"$f":"IF(ISBLANK(A78),\"\",VLOOKUP(D78,ADMIN!$C$2:$D$10,2,FALSE))","v":""}]
[null,null,null,null,null,null,"",{"$f":"IF(ISBLANK(A79),\"\",B79&\"_\"&I79&\" \"&VLOOKUP(D79,ADMIN!$C$2:$E$10,3,FALSE))","v":""},{"$f":"IF(ISBLANK(A79),\"\",VLOOKUP(C79,ADMIN!$A$2:$B$22,2,FALSE))","v":""},{"$f":"IF(ISBLANK(A79),\"\",VLOOKUP(D79,ADMIN!$C$2:$D$10,2,FALSE))","v":""}]
[null,null,null,null,null,null,"",{"$f":"IF(ISBLANK(A80),\"\",B80&\"_\"&I80&\" \"&VLOOKUP(D80,ADMIN!$C$2:$E$10,3,FALSE))","v":""},{"$f":"IF(ISBLANK(A80),\"\",VLOOKUP(C80,ADMIN!$A$2:$B$22,2,FALSE))","v":""},{"$f":"IF(ISBLANK(A80),\"\",VLOOKUP(D80,ADMIN!$C$2:$D$10,2,FALSE))","v":""}]
[null,null,null,null,null,null,"",{"$f":"IF(ISBLANK(A81),\"\",B81&\"_\"&I81&\" \"&VLOOKUP(D81,ADMIN!$C$2:$E$10,3,FALSE))","v":""},{"$f":"IF(ISBLANK(A81),\"\",VLOOKUP(C81,ADMIN!$A$2:$B$22,2,FALSE))","v":""},{"$f":"IF(ISBLANK(A81),\"\",VLOOKUP(D81,ADMIN!$C$2:$D$10,2,FALSE))","v":""}]
[null,null,null,null,null,null,"",{"$f":"IF(ISBLANK(A82),\"\",B82&\"_\"&I82&\" \"&VLOOKUP(D82,ADMIN!$C$2:$E$10,3,FALSE))","v":""},{"$f":"IF(ISBLANK(A82),\"\",VLOOKUP(C82,ADMIN!$A$2:$B$22,2,FALSE))","v":""},{"$f":"IF(ISBLANK(A82),\"\",VLOOKUP(D82,ADMIN!$C$2:$D$10,2,FALSE))","v":""}]
[null,null,null,null,null,null,"",{"$f":"IF(ISBLANK(A83),\"\",B83&\"_\"&I83&\" \"&VLOOKUP(D83,ADMIN!$C$2:$E$10,3,FALSE))","v":""},{"$f":"IF(ISBLANK(A83),\"\",VLOOKUP(C83,ADMIN!$A$2:$B$22,2,FALSE))","v":""},{"$f":"IF(ISBLANK(A83),\"\",VLOOKUP(D83,ADMIN!$C$2:$D$10,2,FALSE))","v":""}]
[null,null,null,null,null,null,"",{"$f":"IF(ISBLANK(A84),\"\",B84&\"_\"&I84&\" \"&VLOOKUP(D84,ADMIN!$C$2:$E$10,3,FALSE))","v":""},{"$f":"IF(ISBLANK(A84),\"\",VLOOKUP(C84,ADMIN!$A$2:$B$22,2,FALSE))","v":""},{"$f":"IF(ISBLANK(A84),\"\",VLOOKUP(D84,ADMIN!$C$2:$D$10,2,FALSE))","v":""}]
[null,null,null,null,null,null,"",{"$f":"IF(ISBLANK(A85),\"\",B85&\"_\"&I85&\" \"&VLOOKUP(D85,ADMIN!$C$2:$E$10,3,FALSE))","v":""},{"$f":"IF(ISBLANK(A85),\"\",VLOOKUP(C85,ADMIN!$A$2:$B$22,2,FALSE))","v":""},{"$f":"IF(ISBLANK(A85),\"\",VLOOKUP(D85,ADMIN!$C$2:$D$10,2,FALSE))","v":""}]
[null,null,null,null,null,null,"",{"$f":"IF(ISBLANK(A86),\"\",B86&\"_\"&I86&\" \"&VLOOKUP(D86,ADMIN!$C$2:$E$10,3,FALSE))","v":""},{"$f":"IF(ISBLANK(A86),\"\",VLOOKUP(C86,ADMIN!$A$2:$B$22,2,FALSE))","v":""},{"$f":"IF(ISBLANK(A86),\"\",VLOOKUP(D86,ADMIN!$C$2:$D$10,2,FALSE))","v":""}]
[null,null,null,null,null,null,"",{"$f":"IF(ISBLANK(A87),\"\",B87&\"_\"&I87&\" \"&VLOOKUP(D87,ADMIN!$C$2:$E$10,3,FALSE))","v":""},{"$f":"IF(ISBLANK(A87),\"\",VLOOKUP(C87,ADMIN!$A$2:$B$22,2,FALSE))","v":""},{"$f":"IF(ISBLANK(A87),\"\",VLOOKUP(D87,ADMIN!$C$2:$D$10,2,FALSE))","v":""}]
[null,null,null,null,null,null,"",{"$f":"IF(ISBLANK(A88),\"\",B88&\"_\"&I88&\" \"&VLOOKUP(D88,ADMIN!$C$2:$E$10,3,FALSE))","v":""},{"$f":"IF(ISBLANK(A88),\"\",VLOOKUP(C88,ADMIN!$A$2:$B$22,2,FALSE))","v":""},{"$f":"IF(ISBLANK(A88),\"\",VLOOKUP(D88,ADMIN!$C$2:$D$10,2,FALSE))","v":""}]
[null,null,null,null,null,null,"",{"$f":"IF(ISBLANK(A89),\"\",B89&\"_\"&I89&\" \"&VLOOKUP(D89,ADMIN!$C$2:$E$10,3,FALSE))","v":""},{"$f":"IF(ISBLANK(A89),\"\",VLOOKUP(C89,ADMIN!$A$2:$B$22,2,FALSE))","v":""},{"$f":"IF(ISBLANK(A89),\"\",VLOOKUP(D89,ADMIN!$C$2:$D$10,2,FALSE))","v":""}]
[null,null,null,null,null,null,"",{"$f":"IF(ISBLANK(A90),\"\",B90&\"_\"&I90&\" \"&VLOOKUP(D90,ADMIN!$C$2:$E$10,3,FALSE))","v":""},{"$f":"IF(ISBLANK(A90),\"\",VLOOKUP(C90,ADMIN!$A$2:$B$22,2,FALSE))","v":""},{"$f":"IF(ISBLANK(A90),\"\",VLOOKUP(D90,ADMIN!$C$2:$D$10,2,FALSE))","v":""}]
[null,null,null,null,null,null,"",{"$f":"IF(ISBLANK(A91),\"\",B91&\"_\"&I91&\" \"&VLOOKUP(D91,ADMIN!$C$2:$E$10,3,FALSE))","v":""},{"$f":"IF(ISBLANK(A91),\"\",VLOOKUP(C91,ADMIN!$A$2:$B$22,2,FALSE))","v":""},{"$f":"IF(ISBLANK(A91),\"\",VLOOKUP(D91,ADMIN!$C$2:$D$10,2,FALSE))","v":""}]
[null,null,null,null,null,null,"",{"$f":"IF(ISBLANK(A92),\"\",B92&\"_\"&I92&\" \"&VLOOKUP(D92,ADMIN!$C$2:$E$10,3,FALSE))","v":""},{"$f":"IF(ISBLANK(A92),\"\",VLOOKUP(C92,ADMIN!$A$2:$B$22,2,FALSE))","v":""},{"$f":"IF(ISBLANK(A92),\"\",VLOOKUP(D92,ADMIN!$C$2:$D$10,2,FALSE))","v":""}]
[null,null,null,null,null,null,"",{"$f":"IF(ISBLANK(A93),\"\",B93&\"_\"&I93&\" \"&VLOOKUP(D93,ADMIN!$C$2:$E$10,3,FALSE))","v":""},{"$f":"IF(ISBLANK(A93),\"\",VLOOKUP(C93,ADMIN!$A$2:$B$22,2,FALSE))","v":""},{"$f":"IF(ISBLANK(A93),\"\",VLOOKUP(D93,ADMIN!$C$2:$D$10,2,FALSE))","v":""}]
[null,null,null,null,null,null,"",{"$f":"IF(ISBLANK(A94),\"\",B94&\"_\"&I94&\" \"&VLOOKUP(D94,ADMIN!$C$2:$E$10,3,FALSE))","v":""},{"$f":"IF(ISBLANK(A94),\"\",VLOOKUP(C94,ADMIN!$A$2:$B$22,2,FALSE))","v":""},{"$f":"IF(ISBLANK(A94),\"\",VLOOKUP(D94,ADMIN!$C$2:$D$10,2,FALSE))","v":""}]
[null,null,null,null,null,null,"",{"$f":"IF(ISBLANK(A95),\"\",B95&\"_\"&I95&\" \"&VLOOKUP(D95,ADMIN!$C$2:$E$10,3,FALSE))","v":""},{"$f":"IF(ISBLANK(A95),\"\",VLOOKUP(C95,ADMIN!$A$2:$B$22,2,FALSE))","v":""},{"$f":"IF(ISBLANK(A95),\"\",VLOOKUP(D95,ADMIN!$C$2:$D$10,2,FALSE))","v":""}]
[null,null,null,null,null,null,"",{"$f":"IF(ISBLANK(A96),\"\",B96&\"_\"&I96&\" \"&VLOOKUP(D96,ADMIN!$C$2:$E$10,3,FALSE))","v":""},{"$f":"IF(ISBLANK(A96),\"\",VLOOKUP(C96,ADMIN!$A$2:$B$22,2,FALSE))","v":""},{"$f":"IF(ISBLANK(A96),\"\",VLOOKUP(D96,ADMIN!$C$2:$D$10,2,FALSE))","v":""}]
[null,null,null,null,null,null,"",{"$f":"IF(ISBLANK(A97),\"\",B97&\"_\"&I97&\" \"&VLOOKUP(D97,ADMIN!$C$2:$E$10,3,FALSE))","v":""},{"$f":"IF(ISBLANK(A97),\"\",VLOOKUP(C97,ADMIN!$A$2:$B$22,2,FALSE))","v":""},{"$f":"IF(ISBLANK(A97),\"\",VLOOKUP(D97,ADMIN!$C$2:$D$10,2,FALSE))","v":""}]
[null,null,null,null,null,null,"",{"$f":"IF(ISBLANK(A98),\"\",B98&\"_\"&I98&\" \"&VLOOKUP(D98,ADMIN!$C$2:$E$10,3,FALSE))","v":""},{"$f":"IF(ISBLANK(A98),\"\",VLOOKUP(C98,ADMIN!$A$2:$B$22,2,FALSE))","v":""},{"$f":"IF(ISBLANK(A98),\"\",VLOOKUP(D98,ADMIN!$C$2:$D$10,2,FALSE))","v":""}]
[null,null,null,null,null,null,"",{"$f":"IF(ISBLANK(A99),\"\",B99&\"_\"&I99&\" \"&VLOOKUP(D99,ADMIN!$C$2:$E$10,3,FALSE))","v":""},{"$f":"IF(ISBLANK(A99),\"\",VLOOKUP(C99,ADMIN!$A$2:$B$22,2,FALSE))","v":""},{"$f":"IF(ISBLANK(A99),\"\",VLOOKUP(D99,ADMIN!$C$2:$D$10,2,FALSE))","v":""}]
[null,null,null,null,null,null,"",{"$f":"IF(ISBLANK(A100),\"\",B100&\"_\"&I100&\" \"&VLOOKUP(D100,ADMIN!$C$2:$E$10,3,FALSE))","v":""},{"$f":"IF(ISBLANK(A100),\"\",VLOOKUP(C100,ADMIN!$A$2:$B$22,2,FALSE))","v":""},{"$f":"IF(ISBLANK(A100),\"\",VLOOKUP(D100,ADMIN!$C$2:$D$10,2,FALSE))","v":""}]
[null,null,null,null,null,null,"",{"$f":"IF(ISBLANK(A101),\"\",B101&\"_\"&I101&\" \"&VLOOKUP(D101,ADMIN!$C$2:$E$10,3,FALSE))","v":""},{"$f":"IF(ISBLANK(A101),\"\",VLOOKUP(C101,ADMIN!$A$2:$B$22,2,FALSE))","v":""},{"$f":"IF(ISBLANK(A101),\"\",VLOOKUP(D101,ADMIN!$C$2:$D$10,2,FALSE))","v":""}]
[null,null,null,null,null,null,"",{"$f":"IF(ISBLANK(A102),\"\",B102&\"_\"&I102&\" \"&VLOOKUP(D102,ADMIN!$C$2:$E$10,3,FALSE))","v":""},{"$f":"IF(ISBLANK(A102),\"\",VLOOKUP(C102,ADMIN!$A$2:$B$22,2,FALSE))","v":""},{"$f":"IF(ISBLANK(A102),\"\",VLOOKUP(D102,ADMIN!$C$2:$D$10,2,FALSE))","v":""}]
[null,null,null,null,null,null,"",{"$f":"IF(ISBLANK(A103),\"\",B103&\"_\"&I103&\" \"&VLOOKUP(D103,ADMIN!$C$2:$E$10,3,FALSE))","v":""},{"$f":"IF(ISBLANK(A103),\"\",VLOOKUP(C103,ADMIN!$A$2:$B$22,2,FALSE))","v":""},{"$f":"IF(ISBLANK(A103),\"\",VLOOKUP(D103,ADMIN!$C$2:$D$10,2,FALSE))","v":""}]
[null,null,null,null,null,null,"",{"$f":"IF(ISBLANK(A104),\"\",B104&\"_\"&I104&\" \"&VLOOKUP(D104,ADMIN!$C$2:$E$10,3,FALSE))","v":""},{"$f":"IF(ISBLANK(A104),\"\",VLOOKUP(C104,ADMIN!$A$2:$B$22,2,FALSE))","v":""},{"$f":"IF(ISBLANK(A104),\"\",VLOOKUP(D104,ADMIN!$C$2:$D$10,2,FALSE))","v":""}]
[null,null,null,null,null,null,"",{"$f":"IF(ISBLANK(A105),\"\",B105&\"_\"&I105&\" \"&VLOOKUP(D105,ADMIN!$C$2:$E$10,3,FALSE))","v":""},{"$f":"IF(ISBLANK(A105),\"\",VLOOKUP(C105,ADMIN!$A$2:$B$22,2,FALSE))","v":""},{"$f":"IF(ISBLANK(A105),\"\",VLOOKUP(D105,ADMIN!$C$2:$D$10,2,FALSE))","v":""}]
[null,null,null,null,null,null,"",{"$f":"IF(ISBLANK(A106),\"\",B106&\"_\"&I106&\" \"&VLOOKUP(D106,ADMIN!$C$2:$E$10,3,FALSE))","v":""},{"$f":"IF(ISBLANK(A106),\"\",VLOOKUP(C106,ADMIN!$A$2:$B$22,2,FALSE))","v":""},{"$f":"IF(ISBLANK(A106),\"\",VLOOKUP(D106,ADMIN!$C$2:$D$10,2,FALSE))","v":""}]
[null,null,null,null,null,null,"",{"$f":"IF(ISBLANK(A107),\"\",B107&\"_\"&I107&\" \"&VLOOKUP(D107,ADMIN!$C$2:$E$10,3,FALSE))","v":""},{"$f":"IF(ISBLANK(A107),\"\",VLOOKUP(C107,ADMIN!$A$2:$B$22,2,FALSE))","v":""},{"$f":"IF(ISBLANK(A107),\"\",VLOOKUP(D107,ADMIN!$C$2:$D$10,2,FALSE))","v":""}]
[null,null,null,null,null,null,"",{"$f":"IF(ISBLANK(A108),\"\",B108&\"_\"&I108&\" \"&VLOOKUP(D108,ADMIN!$C$2:$E$10,3,FALSE))","v":""},{"$f":"IF(ISBLANK(A108),\"\",VLOOKUP(C108,ADMIN!$A$2:$B$22,2,FALSE))","v":""},{"$f":"IF(ISBLANK(A108),\"\",VLOOKUP(D108,ADMIN!$C$2:$D$10,2,FALSE))","v":""}]
[null,null,null,null,null,null,"",{"$f":"IF(ISBLANK(A109),\"\",B109&\"_\"&I109&\" \"&VLOOKUP(D109,ADMIN!$C$2:$E$10,3,FALSE))","v":""},{"$f":"IF(ISBLANK(A109),\"\",VLOOKUP(C109,ADMIN!$A$2:$B$22,2,FALSE))","v":""},{"$f":"IF(ISBLANK(A109),\"\",VLOOKUP(D109,ADMIN!$C$2:$D$10,2,FALSE))","v":""}]
[null,null,null,null,null,null,"",{"$f":"IF(ISBLANK(A110),\"\",B110&\"_\"&I110&\" \"&VLOOKUP(D110,ADMIN!$C$2:$E$10,3,FALSE))","v":""},{"$f":"IF(ISBLANK(A110),\"\",VLOOKUP(C110,ADMIN!$A$2:$B$22,2,FALSE))","v":""},{"$f":"IF(ISBLANK(A110),\"\",VLOOKUP(D110,ADMIN!$C$2:$D$10,2,FALSE))","v":""}]
[null,null,null,null,null,null,"",{"$f":"IF(ISBLANK(A111),\"\",B111&\"_\"&I111&\" \"&VLOOKUP(D111,ADMIN!$C$2:$E$10,3,FALSE))","v":""},{"$f":"IF(ISBLANK(A111),\"\",VLOOKUP(C111,ADMIN!$A$2:$B$22,2,FALSE))","v":""},{"$f":"IF(ISBLANK(A111),\"\",VLOOKUP(D111,ADMIN!$C$2:$D$10,2,FALSE))","v":""}]
[null,null,null,null,null,null,"",{"$f":"IF(ISBLANK(A112),\"\",B112&\"_\"&I112&\" \"&VLOOKUP(D112,ADMIN!$C$2:$E$10,3,FALSE))","v":""},{"$f":"IF(ISBLANK(A112),\"\",VLOOKUP(C112,ADMIN!$A$2:$B$22,2,FALSE))","v":""},{"$f":"IF(ISBLANK(A112),\"\",VLOOKUP(D112,ADMIN!$C$2:$D$10,2,FALSE))","v":""}]
[null,null,null,null,null,null,"",{"$f":"IF(ISBLANK(A113),\"\",B113&\"_\"&I113&\" \"&VLOOKUP(D113,ADMIN!$C$2:$E$10,3,FALSE))","v":""},{"$f":"IF(ISBLANK(A113),\"\",VLOOKUP(C113,ADMIN!$A$2:$B$22,2,FALSE))","v":""},{"$f":"IF(ISBLANK(A113),\"\",VLOOKUP(D113,ADMIN!$C$2:$D$10,2,FALSE))","v":""}]
[null,null,null,null,null,null,"",{"$f":"IF(ISBLANK(A114),\"\",B114&\"_\"&I114&\" \"&VLOOKUP(D114,ADMIN!$C$2:$E$10,3,FALSE))","v":""},{"$f":"IF(ISBLANK(A114),\"\",VLOOKUP(C114,ADMIN!$A$2:$B$22,2,FALSE))","v":""},{"$f":"IF(ISBLANK(A114),\"\",VLOOKUP(D114,ADMIN!$C$2:$D$10,2,FALSE))","v":""}]
[null,null,null,null,null,null,"",{"$f":"IF(ISBLANK(A115),\"\",B115&\"_\"&I115&\" \"&VLOOKUP(D115,ADMIN!$C$2:$E$10,3,FALSE))","v":""},{"$f":"IF(ISBLANK(A115),\"\",VLOOKUP(C115,ADMIN!$A$2:$B$22,2,FALSE))","v":""},{"$f":"IF(ISBLANK(A115),\"\",VLOOKUP(D115,ADMIN!$C$2:$D$10,2,FALSE))","v":""}]
[null,null,null,null,null,null,"",{"$f":"IF(ISBLANK(A116),\"\",B116&\"_\"&I116&\" \"&VLOOKUP(D116,ADMIN!$C$2:$E$10,3,FALSE))","v":""},{"$f":"IF(ISBLANK(A116),\"\",VLOOKUP(C116,ADMIN!$A$2:$B$22,2,FALSE))","v":""},{"$f":"IF(ISBLANK(A116),\"\",VLOOKUP(D116,ADMIN!$C$2:$D$10,2,FALSE))","v":""}]
[null,null,null,null,null,null,"",{"$f":"IF(ISBLANK(A117),\"\",B117&\"_\"&I117&\" \"&VLOOKUP(D117,ADMIN!$C$2:$E$10,3,FALSE))","v":""},{"$f":"IF(ISBLANK(A117),\"\",VLOOKUP(C117,ADMIN!$A$2:$B$22,2,FALSE))","v":""},{"$f":"IF(ISBLANK(A117),\"\",VLOOKUP(D117,ADMIN!$C$2:$D$10,2,FALSE))","v":""}]
[null,null,null,null,null,null,"",{"$f":"IF(ISBLANK(A118),\"\",B118&\"_\"&I118&\" \"&VLOOKUP(D118,ADMIN!$C$2:$E$10,3,FALSE))","v":""},{"$f":"IF(ISBLANK(A118),\"\",VLOOKUP(C118,ADMIN!$A$2:$B$22,2,FALSE))","v":""},{"$f":"IF(ISBLANK(A118),\"\",VLOOKUP(D118,ADMIN!$C$2:$D$10,2,FALSE))","v":""}]
[null,null,null,null,null,null,"",{"$f":"IF(ISBLANK(A119),\"\",B119&\"_\"&I119&\" \"&VLOOKUP(D119,ADMIN!$C$2:$E$10,3,FALSE))","v":""},{"$f":"IF(ISBLANK(A119),\"\",VLOOKUP(C119,ADMIN!$A$2:$B$22,2,FALSE))","v":""},{"$f":"IF(ISBLANK(A119),\"\",VLOOKUP(D119,ADMIN!$C$2:$D$10,2,FALSE))","v":""}]
[null,null,null,null,null,null,"",{"$f":"IF(ISBLANK(A120),\"\",B120&\"_\"&I120&\" \"&VLOOKUP(D120,ADMIN!$C$2:$E$10,3,FALSE))","v":""},{"$f":"IF(ISBLANK(A120),\"\",VLOOKUP(C120,ADMIN!$A$2:$B$22,2,FALSE))","v":""},{"$f":"IF(ISBLANK(A120),\"\",VLOOKUP(D120,ADMIN!$C$2:$D$10,2,FALSE))","v":""}]
[null,null,null,null,null,null,"",{"$f":"IF(ISBLANK(A121),\"\",B121&\"_\"&I121&\" \"&VLOOKUP(D121,ADMIN!$C$2:$E$10,3,FALSE))","v":""},{"$f":"IF(ISBLANK(A121),\"\",VLOOKUP(C121,ADMIN!$A$2:$B$22,2,FALSE))","v":""},{"$f":"IF(ISBLANK(A121),\"\",VLOOKUP(D121,ADMIN!$C$2:$D$10,2,FALSE))","v":""}]
[null,null,null,null,null,null,"",{"$f":"IF(ISBLANK(A122),\"\",B122&\"_\"&I122&\" \"&VLOOKUP(D122,ADMIN!$C$2:$E$10,3,FALSE))","v":""},{"$f":"IF(ISBLANK(A122),\"\",VLOOKUP(C122,ADMIN!$A$2:$B$22,2,FALSE))","v":""},{"$f":"IF(ISBLANK(A122),\"\",VLOOKUP(D122,ADMIN!$C$2:$D$10,2,FALSE))","v":""}]
[null,null,null,null,null,null,"",{"$f":"IF(ISBLANK(A123),\"\",B123&\"_\"&I123&\" \"&VLOOKUP(D123,ADMIN!$C$2:$E$10,3,FALSE))","v":""},{"$f":"IF(ISBLANK(A123),\"\",VLOOKUP(C123,ADMIN!$A$2:$B$22,2,FALSE))","v":""},{"$f":"IF(ISBLANK(A123),\"\",VLOOKUP(D123,ADMIN!$C$2:$D$10,2,FALSE))","v":""}]
[null,null,null,null,null,null,"",{"$f":"IF(ISBLANK(A124),\"\",B124&\"_\"&I124&\" \"&VLOOKUP(D124,ADMIN!$C$2:$E$10,3,FALSE))","v":""},{"$f":"IF(ISBLANK(A124),\"\",VLOOKUP(C124,ADMIN!$A$2:$B$22,2,FALSE))","v":""},{"$f":"IF(ISBLANK(A124),\"\",VLOOKUP(D124,ADMIN!$C$2:$D$10,2,FALSE))","v":""}]
[null,null,null,null,null,null,"",{"$f":"IF(ISBLANK(A125),\"\",B125&\"_\"&I125&\" \"&VLOOKUP(D125,ADMIN!$C$2:$E$10,3,FALSE))","v":""},{"$f":"IF(ISBLANK(A125),\"\",VLOOKUP(C125,ADMIN!$A$2:$B$22,2,FALSE))","v":""},{"$f":"IF(ISBLANK(A125),\"\",VLOOKUP(D125,ADMIN!$C$2:$D$10,2,FALSE))","v":""}]
[null,null,null,null,null,null,"",{"$f":"IF(ISBLANK(A126),\"\",B126&\"_\"&I126&\" \"&VLOOKUP(D126,ADMIN!$C$2:$E$10,3,FALSE))","v":""},{"$f":"IF(ISBLANK(A126),\"\",VLOOKUP(C126,ADMIN!$A$2:$B$22,2,FALSE))","v":""},{"$f":"IF(ISBLANK(A126),\"\",VLOOKUP(D126,ADMIN!$C$2:$D$10,2,FALSE))","v":""}]
[null,null,null,null,null,null,"",{"$f":"IF(ISBLANK(A127),\"\",B127&\"_\"&I127&\" \"&VLOOKUP(D127,ADMIN!$C$2:$E$10,3,FALSE))","v":""},{"$f":"IF(ISBLANK(A127),\"\",VLOOKUP(C127,ADMIN!$A$2:$B$22,2,FALSE))","v":""},{"$f":"IF(ISBLANK(A127),\"\",VLOOKUP(D127,ADMIN!$C$2:$D$10,2,FALSE))","v":""}]
[null,null,null,null,null,null,"",{"$f":"IF(ISBLANK(A128),\"\",B128&\"_\"&I128&\" \"&VLOOKUP(D128,ADMIN!$C$2:$E$10,3,FALSE))","v":""},{"$f":"IF(ISBLANK(A128),\"\",VLOOKUP(C128,ADMIN!$A$2:$B$22,2,FALSE))","v":""},{"$f":"IF(ISBLANK(A128),\"\",VLOOKUP(D128,ADMIN!$C$2:$D$10,2,FALSE))","v":""}]
[null,null,null,null,null,null,"",{"$f":"IF(ISBLANK(A129),\"\",B129&\"_\"&I129&\" \"&VLOOKUP(D129,ADMIN!$C$2:$E$10,3,FALSE))","v":""},{"$f":"IF(ISBLANK(A129),\"\",VLOOKUP(C129,ADMIN!$A$2:$B$22,2,FALSE))","v":""},{"$f":"IF(ISBLANK(A129),\"\",VLOOKUP(D129,ADMIN!$C$2:$D$10,2,FALSE))","v":""}]
[null,null,null,null,null,null,"",{"$f":"IF(ISBLANK(A130),\"\",B130&\"_\"&I130&\" \"&VLOOKUP(D130,ADMIN!$C$2:$E$10,3,FALSE))","v":""},{"$f":"IF(ISBLANK(A130),\"\",VLOOKUP(C130,ADMIN!$A$2:$B$22,2,FALSE))","v":""},{"$f":"IF(ISBLANK(A130),\"\",VLOOKUP(D130,ADMIN!$C$2:$D$10,2,FALSE))","v":""}]
[null,null,null,null,null,null,{"$f":"IF(ISBLANK(A131),\"\",B131&\"_\"&I131&\"_\"&J131)","v":""},{"$f":"IF(ISBLANK(A131),\"\",B131&\"_\"&I131&\" \"&VLOOKUP(D131,ADMIN!$C$2:$E$10,3,FALSE))","v":""},{"$f":"IF(ISBLANK(A131),\"\",VLOOKUP(C131,ADMIN!$A$2:$B$22,2,FALSE))","v":""},{"$f":"IF(ISBLANK(A131),\"\",VLOOKUP(D131,ADMIN!$C$2:$D$10,2,FALSE))","v":""}]
[null,null,null,null,null,null,"",{"$f":"IF(ISBLANK(A132),\"\",B132&\"_\"&I132&\" \"&VLOOKUP(D132,ADMIN!$C$2:$E$10,3,FALSE))","v":""},{"$f":"IF(ISBLANK(A132),\"\",VLOOKUP(C132,ADMIN!$A$2:$B$22,2,FALSE))","v":""},{"$f":"IF(ISBLANK(A132),\"\",VLOOKUP(D132,ADMIN!$C$2:$D$10,2,FALSE))","v":""}]
[null,null,null,null,null,null,"",{"$f":"IF(ISBLANK(A133),\"\",B133&\"_\"&I133&\" \"&VLOOKUP(D133,ADMIN!$C$2:$E$10,3,FALSE))","v":""},{"$f":"IF(ISBLANK(A133),\"\",VLOOKUP(C133,ADMIN!$A$2:$B$22,2,FALSE))","v":""},{"$f":"IF(ISBLANK(A133),\"\",VLOOKUP(D133,ADMIN!$C$2:$D$10,2,FALSE))","v":""}]
[null,null,null,null,null,null,"",{"$f":"IF(ISBLANK(A134),\"\",B134&\"_\"&I134&\" \"&VLOOKUP(D134,ADMIN!$C$2:$E$10,3,FALSE))","v":""},{"$f":"IF(ISBLANK(A134),\"\",VLOOKUP(C134,ADMIN!$A$2:$B$22,2,FALSE))","v":""},{"$f":"IF(ISBLANK(A134),\"\",VLOOKUP(D134,ADMIN!$C$2:$D$10,2,FALSE))","v":""}]
[null,null,null,null,null,null,"",{"$f":"IF(ISBLANK(A135),\"\",B135&\"_\"&I135&\" \"&VLOOKUP(D135,ADMIN!$C$2:$E$10,3,FALSE))","v":""},{"$f":"IF(ISBLANK(A135),\"\",VLOOKUP(C135,ADMIN!$A$2:$B$22,2,FALSE))","v":""},{"$f":"IF(ISBLANK(A135),\"\",VLOOKUP(D135,ADMIN!$C$2:$D$10,2,FALSE))","v":""}]
[null,null,null,null,null,null,"",{"$f":"IF(ISBLANK(A136),\"\",B136&\"_\"&I136&\" \"&VLOOKUP(D136,ADMIN!$C$2:$E$10,3,FALSE))","v":""},{"$f":"IF(ISBLANK(A136),\"\",VLOOKUP(C136,ADMIN!$A$2:$B$22,2,FALSE))","v":""},{"$f":"IF(ISBLANK(A136),\"\",VLOOKUP(D136,ADMIN!$C$2:$D$10,2,FALSE))","v":""}]
[null,null,null,null,null,null,"",{"$f":"IF(ISBLANK(A137),\"\",B137&\"_\"&I137&\" \"&VLOOKUP(D137,ADMIN!$C$2:$E$10,3,FALSE))","v":""},{"$f":"IF(ISBLANK(A137),\"\",VLOOKUP(C137,ADMIN!$A$2:$B$22,2,FALSE))","v":""},{"$f":"IF(ISBLANK(A137),\"\",VLOOKUP(D137,ADMIN!$C$2:$D$10,2,FALSE))","v":""}]
[null,null,null,null,null,null,"",{"$f":"IF(ISBLANK(A138),\"\",B138&\"_\"&I138&\" \"&VLOOKUP(D138,ADMIN!$C$2:$E$10,3,FALSE))","v":""},{"$f":"IF(ISBLANK(A138),\"\",VLOOKUP(C138,ADMIN!$A$2:$B$22,2,FALSE))","v":""},{"$f":"IF(ISBLANK(A138),\"\",VLOOKUP(D138,ADMIN!$C$2:$D$10,2,FALSE))","v":""}]
[null,null,null,null,null,null,"",{"$f":"IF(ISBLANK(A139),\"\",B139&\"_\"&I139&\" \"&VLOOKUP(D139,ADMIN!$C$2:$E$10,3,FALSE))","v":""},{"$f":"IF(ISBLANK(A139),\"\",VLOOKUP(C139,ADMIN!$A$2:$B$22,2,FALSE))","v":""},{"$f":"IF(ISBLANK(A139),\"\",VLOOKUP(D139,ADMIN!$C$2:$D$10,2,FALSE))","v":""}]
[null,null,null,null,null,null,"",{"$f":"IF(ISBLANK(A140),\"\",B140&\"_\"&I140&\" \"&VLOOKUP(D140,ADMIN!$C$2:$E$10,3,FALSE))","v":""},{"$f":"IF(ISBLANK(A140),\"\",VLOOKUP(C140,ADMIN!$A$2:$B$22,2,FALSE))","v":""},{"$f":"IF(ISBLANK(A140),\"\",VLOOKUP(D140,ADMIN!$C$2:$D$10,2,FALSE))","v":""}]
[null,null,null,null,null,null,"",{"$f":"IF(ISBLANK(A141),\"\",B141&\"_\"&I141&\" \"&VLOOKUP(D141,ADMIN!$C$2:$E$10,3,FALSE))","v":""},{"$f":"IF(ISBLANK(A141),\"\",VLOOKUP(C141,ADMIN!$A$2:$B$22,2,FALSE))","v":""},{"$f":"IF(ISBLANK(A141),\"\",VLOOKUP(D141,ADMIN!$C$2:$D$10,2,FALSE))","v":""}]
[null,null,null,null,null,null,"",{"$f":"IF(ISBLANK(A142),\"\",B142&\"_\"&I142&\" \"&VLOOKUP(D142,ADMIN!$C$2:$E$10,3,FALSE))","v":""},{"$f":"IF(ISBLANK(A142),\"\",VLOOKUP(C142,ADMIN!$A$2:$B$22,2,FALSE))","v":""},{"$f":"IF(ISBLANK(A142),\"\",VLOOKUP(D142,ADMIN!$C$2:$D$10,2,FALSE))","v":""}]
[null,null,null,null,null,null,"",{"$f":"IF(ISBLANK(A143),\"\",B143&\"_\"&I143&\" \"&VLOOKUP(D143,ADMIN!$C$2:$E$10,3,FALSE))","v":""},{"$f":"IF(ISBLANK(A143),\"\",VLOOKUP(C143,ADMIN!$A$2:$B$22,2,FALSE))","v":""},{"$f":"IF(ISBLANK(A143),\"\",VLOOKUP(D143,ADMIN!$C$2:$D$10,2,FALSE))","v":""}]
[null,null,null,null,null,null,"",{"$f":"IF(ISBLANK(A144),\"\",B144&\"_\"&I144&\" \"&VLOOKUP(D144,ADMIN!$C$2:$E$10,3,FALSE))","v":""},{"$f":"IF(ISBLANK(A144),\"\",VLOOKUP(C144,ADMIN!$A$2:$B$22,2,FALSE))","v":""},{"$f":"IF(ISBLANK(A144),\"\",VLOOKUP(D144,ADMIN!$C$2:$D$10,2,FALSE))","v":""}]
[null,null,null,null,null,null,"",{"$f":"IF(ISBLANK(A145),\"\",B145&\"_\"&I145&\" \"&VLOOKUP(D145,ADMIN!$C$2:$E$10,3,FALSE))","v":""},{"$f":"IF(ISBLANK(A145),\"\",VLOOKUP(C145,ADMIN!$A$2:$B$22,2,FALSE))","v":""},{"$f":"IF(ISBLANK(A145),\"\",VLOOKUP(D145,ADMIN!$C$2:$D$10,2,FALSE))","v":""}]
[null,null,null,null,null,null,"",{"$f":"IF(ISBLANK(A146),\"\",B146&\"_\"&I146&\" \"&VLOOKUP(D146,ADMIN!$C$2:$E$10,3,FALSE))","v":""},{"$f":"IF(ISBLANK(A146),\"\",VLOOKUP(C146,ADMIN!$A$2:$B$22,2,FALSE))","v":""},{"$f":"IF(ISBLANK(A146),\"\",VLOOKUP(D146,ADMIN!$C$2:$D$10,2,FALSE))","v":""}]
[null,null,null,null,null,null,"",{"$f":"IF(ISBLANK(A147),\"\",B147&\"_\"&I147&\" \"&VLOOKUP(D147,ADMIN!$C$2:$E$10,3,FALSE))","v":""},{"$f":"IF(ISBLANK(A147),\"\",VLOOKUP(C147,ADMIN!$A$2:$B$22,2,FALSE))","v":""},{"$f":"IF(ISBLANK(A147),\"\",VLOOKUP(D147,ADMIN!$C$2:$D$10,2,FALSE))","v":""}]
[null,null,null,null,null,null,"",{"$f":"IF(ISBLANK(A148),\"\",B148&\"_\"&I148&\" \"&VLOOKUP(D148,ADMIN!$C$2:$E$10,3,FALSE))","v":""},{"$f":"IF(ISBLANK(A148),\"\",VLOOKUP(C148,ADMIN!$A$2:$B$22,2,FALSE))","v":""},{"$f":"IF(ISBLANK(A148),\"\",VLOOKUP(D148,ADMIN!$C$2:$D$10,2,FALSE))","v":""}]
[null,null,null,null,null,null,"",{"$f":"IF(ISBLANK(A149),\"\",B149&\"_\"&I149&\" \"&VLOOKUP(D149,ADMIN!$C$2:$E$10,3,FALSE))","v":""},{"$f":"IF(ISBLANK(A149),\"\",VLOOKUP(C149,ADMIN!$A$2:$B$22,2,FALSE))","v":""},{"$f":"IF(ISBLANK(A149),\"\",VLOOKUP(D149,ADMIN!$C$2:$D$10,2,FALSE))","v":""}]
[null,null,null,null,null,null,"",{"$f":"IF(ISBLANK(A150),\"\",B150&\"_\"&I150&\" \"&VLOOKUP(D150,ADMIN!$C$2:$E$10,3,FALSE))","v":""},{"$f":"IF(ISBLANK(A150),\"\",VLOOKUP(C150,ADMIN!$A$2:$B$22,2,FALSE))","v":""},{"$f":"IF(ISBLANK(A150),\"\",VLOOKUP(D150,ADMIN!$C$2:$D$10,2,FALSE))","v":""}]
[null,null,null,null,null,null,"",{"$f":"IF(ISBLANK(A151),\"\",B151&\"_\"&I151&\" \"&VLOOKUP(D151,ADMIN!$C$2:$E$10,3,FALSE))","v":""},{"$f":"IF(ISBLANK(A151),\"\",VLOOKUP(C151,ADMIN!$A$2:$B$22,2,FALSE))","v":""},{"$f":"IF(ISBLANK(A151),\"\",VLOOKUP(D151,ADMIN!$C$2:$D$10,2,FALSE))","v":""}]
[null,null,null,null,null,null,"",{"$f":"IF(ISBLANK(A152),\"\",B152&\"_\"&I152&\" \"&VLOOKUP(D152,ADMIN!$C$2:$E$10,3,FALSE))","v":""},{"$f":"IF(ISBLANK(A152),\"\",VLOOKUP(C152,ADMIN!$A$2:$B$22,2,FALSE))","v":""},{"$f":"IF(ISBLANK(A152),\"\",VLOOKUP(D152,ADMIN!$C$2:$D$10,2,FALSE))","v":""}]
[null,null,null,null,null,null,"",{"$f":"IF(ISBLANK(A153),\"\",B153&\"_\"&I153&\" \"&VLOOKUP(D153,ADMIN!$C$2:$E$10,3,FALSE))","v":""},{"$f":"IF(ISBLANK(A153),\"\",VLOOKUP(C153,ADMIN!$A$2:$B$22,2,FALSE))","v":""},{"$f":"IF(ISBLANK(A153),\"\",VLOOKUP(D153,ADMIN!$C$2:$D$10,2,FALSE))","v":""}]
[null,null,null,null,null,null,"",{"$f":"IF(ISBLANK(A154),\"\",B154&\"_\"&I154&\" \"&VLOOKUP(D154,ADMIN!$C$2:$E$10,3,FALSE))","v":""},{"$f":"IF(ISBLANK(A154),\"\",VLOOKUP(C154,ADMIN!$A$2:$B$22,2,FALSE))","v":""},{"$f":"IF(ISBLANK(A154),\"\",VLOOKUP(D154,ADMIN!$C$2:$D$10,2,FALSE))","v":""}]
[null,null,null,null,null,null,"",{"$f":"IF(ISBLANK(A155),\"\",B155&\"_\"&I155&\" \"&VLOOKUP(D155,ADMIN!$C$2:$E$10,3,FALSE))","v":""},{"$f":"IF(ISBLANK(A155),\"\",VLOOKUP(C155,ADMIN!$A$2:$B$22,2,FALSE))","v":""},{"$f":"IF(ISBLANK(A155),\"\",VLOOKUP(D155,ADMIN!$C$2:$D$10,2,FALSE))","v":""}]
[null,null,null,null,null,null,"",{"$f":"IF(ISBLANK(A156),\"\",B156&\"_\"&I156&\" \"&VLOOKUP(D156,ADMIN!$C$2:$E$10,3,FALSE))","v":""},{"$f":"IF(ISBLANK(A156),\"\",VLOOKUP(C156,ADMIN!$A$2:$B$22,2,FALSE))","v":""},{"$f":"IF(ISBLANK(A156),\"\",VLOOKUP(D156,ADMIN!$C$2:$D$10,2,FALSE))","v":""}]
[null,null,null,null,null,null,"",{"$f":"IF(ISBLANK(A157),\"\",B157&\"_\"&I157&\" \"&VLOOKUP(D157,ADMIN!$C$2:$E$10,3,FALSE))","v":""},{"$f":"IF(ISBLANK(A157),\"\",VLOOKUP(C157,ADMIN!$A$2:$B$22,2,FALSE))","v":""},{"$f":"IF(ISBLANK(A157),\"\",VLOOKUP(D157,ADMIN!$C$2:$D$10,2,FALSE))","v":""}]
[null,null,null,null,null,null,"",{"$f":"IF(ISBLANK(A158),\"\",B158&\"_\"&I158&\" \"&VLOOKUP(D158,ADMIN!$C$2:$E$10,3,FALSE))","v":""},{"$f":"IF(ISBLANK(A158),\"\",VLOOKUP(C158,ADMIN!$A$2:$B$22,2,FALSE))","v":""},{"$f":"IF(ISBLANK(A158),\"\",VLOOKUP(D158,ADMIN!$C$2:$D$10,2,FALSE))","v":""}]
[null,null,null,null,null,null,"",{"$f":"IF(ISBLANK(A159),\"\",B159&\"_\"&I159&\" \"&VLOOKUP(D159,ADMIN!$C$2:$E$10,3,FALSE))","v":""},{"$f":"IF(ISBLANK(A159),\"\",VLOOKUP(C159,ADMIN!$A$2:$B$22,2,FALSE))","v":""},{"$f":"IF(ISBLANK(A159),\"\",VLOOKUP(D159,ADMIN!$C$2:$D$10,2,FALSE))","v":""}]
[null,null,null,null,null,null,"",{"$f":"IF(ISBLANK(A160),\"\",B160&\"_\"&I160&\" \"&VLOOKUP(D160,ADMIN!$C$2:$E$10,3,FALSE))","v":""},{"$f":"IF(ISBLANK(A160),\"\",VLOOKUP(C160,ADMIN!$A$2:$B$22,2,FALSE))","v":""},{"$f":"IF(ISBLANK(A160),\"\",VLOOKUP(D160,ADMIN!$C$2:$D$10,2,FALSE))","v":""}]
[null,null,null,null,null,null,"",{"$f":"IF(ISBLANK(A161),\"\",B161&\"_\"&I161&\" \"&VLOOKUP(D161,ADMIN!$C$2:$E$10,3,FALSE))","v":""},{"$f":"IF(ISBLANK(A161),\"\",VLOOKUP(C161,ADMIN!$A$2:$B$22,2,FALSE))","v":""},{"$f":"IF(ISBLANK(A161),\"\",VLOOKUP(D161,ADMIN!$C$2:$D$10,2,FALSE))","v":""}]
[null,null,null,null,null,null,"",{"$f":"IF(ISBLANK(A162),\"\",B162&\"_\"&I162&\" \"&VLOOKUP(D162,ADMIN!$C$2:$E$10,3,FALSE))","v":""},{"$f":"IF(ISBLANK(A162),\"\",VLOOKUP(C162,ADMIN!$A$2:$B$22,2,FALSE))","v":""},{"$f":"IF(ISBLANK(A162),\"\",VLOOKUP(D162,ADMIN!$C$2:$D$10,2,FALSE))","v":""}]
[null,null,null,null,null,null,"",{"$f":"IF(ISBLANK(A163),\"\",B163&\"_\"&I163&\" \"&VLOOKUP(D163,ADMIN!$C$2:$E$10,3,FALSE))","v":""},{"$f":"IF(ISBLANK(A163),\"\",VLOOKUP(C163,ADMIN!$A$2:$B$22,2,FALSE))","v":""},{"$f":"IF(ISBLANK(A163),\"\",VLOOKUP(D163,ADMIN!$C$2:$D$10,2,FALSE))","v":""}]
[null,null,null,null,null,null,"",{"$f":"IF(ISBLANK(A164),\"\",B164&\"_\"&I164&\" \"&VLOOKUP(D164,ADMIN!$C$2:$E$10,3,FALSE))","v":""},{"$f":"IF(ISBLANK(A164),\"\",VLOOKUP(C164,ADMIN!$A$2:$B$22,2,FALSE))","v":""},{"$f":"IF(ISBLANK(A164),\"\",VLOOKUP(D164,ADMIN!$C$2:$D$10,2,FALSE))","v":""}]
[null,null,null,null,null,null,"",{"$f":"IF(ISBLANK(A165),\"\",B165&\"_\"&I165&\" \"&VLOOKUP(D165,ADMIN!$C$2:$E$10,3,FALSE))","v":""},{"$f":"IF(ISBLANK(A165),\"\",VLOOKUP(C165,ADMIN!$A$2:$B$22,2,FALSE))","v":""},{"$f":"IF(ISBLANK(A165),\"\",VLOOKUP(D165,ADMIN!$C$2:$D$10,2,FALSE))","v":""}]
[null,null,null,null,null,null,"",{"$f":"IF(ISBLANK(A166),\"\",B166&\"_\"&I166&\" \"&VLOOKUP(D166,ADMIN!$C$2:$E$10,3,FALSE))","v":""},{"$f":"IF(ISBLANK(A166),\"\",VLOOKUP(C166,ADMIN!$A$2:$B$22,2,FALSE))","v":""},{"$f":"IF(ISBLANK(A166),\"\",VLOOKUP(D166,ADMIN!$C$2:$D$10,2,FALSE))","v":""}]
[null,null,null,null,null,null,"",{"$f":"IF(ISBLANK(A167),\"\",B167&\"_\"&I167&\" \"&VLOOKUP(D167,ADMIN!$C$2:$E$10,3,FALSE))","v":""},{"$f":"IF(ISBLANK(A167),\"\",VLOOKUP(C167,ADMIN!$A$2:$B$22,2,FALSE))","v":""},{"$f":"IF(ISBLANK(A167),\"\",VLOOKUP(D167,ADMIN!$C$2:$D$10,2,FALSE))","v":""}]
[null,null,null,null,null,null,"",{"$f":"IF(ISBLANK(A168),\"\",B168&\"_\"&I168&\" \"&VLOOKUP(D168,ADMIN!$C$2:$E$10,3,FALSE))","v":""},{"$f":"IF(ISBLANK(A168),\"\",VLOOKUP(C168,ADMIN!$A$2:$B$22,2,FALSE))","v":""},{"$f":"IF(ISBLANK(A168),\"\",VLOOKUP(D168,ADMIN!$C$2:$D$10,2,FALSE))","v":""}]
[null,null,null,null,null,null,"",{"$f":"IF(ISBLANK(A169),\"\",B169&\"_\"&I169&\" \"&VLOOKUP(D169,ADMIN!$C$2:$E$10,3,FALSE))","v":""},{"$f":"IF(ISBLANK(A169),\"\",VLOOKUP(C169,ADMIN!$A$2:$B$22,2,FALSE))","v":""},{"$f":"IF(ISBLANK(A169),\"\",VLOOKUP(D169,ADMIN!$C$2:$D$10,2,FALSE))","v":""}]
[null,null,null,null,null,null,"",{"$f":"IF(ISBLANK(A170),\"\",B170&\"_\"&I170&\" \"&VLOOKUP(D170,ADMIN!$C$2:$E$10,3,FALSE))","v":""},{"$f":"IF(ISBLANK(A170),\"\",VLOOKUP(C170,ADMIN!$A$2:$B$22,2,FALSE))","v":""},{"$f":"IF(ISBLANK(A170),\"\",VLOOKUP(D170,ADMIN!$C$2:$D$10,2,FALSE))","v":""}]
[null,null,null,null,null,null,"",{"$f":"IF(ISBLANK(A171),\"\",B171&\"_\"&I171&\" \"&VLOOKUP(D171,ADMIN!$C$2:$E$10,3,FALSE))","v":""},{"$f":"IF(ISBLANK(A171),\"\",VLOOKUP(C171,ADMIN!$A$2:$B$22,2,FALSE))","v":""},{"$f":"IF(ISBLANK(A171),\"\",VLOOKUP(D171,ADMIN!$C$2:$D$10,2,FALSE))","v":""}]
[null,null,null,null,null,null,"",{"$f":"IF(ISBLANK(A172),\"\",B172&\"_\"&I172&\" \"&VLOOKUP(D172,ADMIN!$C$2:$E$10,3,FALSE))","v":""},{"$f":"IF(ISBLANK(A172),\"\",VLOOKUP(C172,ADMIN!$A$2:$B$22,2,FALSE))","v":""},{"$f":"IF(ISBLANK(A172),\"\",VLOOKUP(D172,ADMIN!$C$2:$D$10,2,FALSE))","v":""}]
[null,null,null,null,null,null,"",{"$f":"IF(ISBLANK(A173),\"\",B173&\"_\"&I173&\" \"&VLOOKUP(D173,ADMIN!$C$2:$E$10,3,FALSE))","v":""},{"$f":"IF(ISBLANK(A173),\"\",VLOOKUP(C173,ADMIN!$A$2:$B$22,2,FALSE))","v":""},{"$f":"IF(ISBLANK(A173),\"\",VLOOKUP(D173,ADMIN!$C$2:$D$10,2,FALSE))","v":""}]
[null,null,null,null,null,null,"",{"$f":"IF(ISBLANK(A174),\"\",B174&\"_\"&I174&\" \"&VLOOKUP(D174,ADMIN!$C$2:$E$10,3,FALSE))","v":""},{"$f":"IF(ISBLANK(A174),\"\",VLOOKUP(C174,ADMIN!$A$2:$B$22,2,FALSE))","v":""},{"$f":"IF(ISBLANK(A174),\"\",VLOOKUP(D174,ADMIN!$C$2:$D$10,2,FALSE))","v":""}]
[null,null,null,null,null,null,"",{"$f":"IF(ISBLANK(A175),\"\",B175&\"_\"&I175&\" \"&VLOOKUP(D175,ADMIN!$C$2:$E$10,3,FALSE))","v":""},{"$f":"IF(ISBLANK(A175),\"\",VLOOKUP(C175,ADMIN!$A$2:$B$22,2,FALSE))","v":""},{"$f":"IF(ISBLANK(A175),\"\",VLOOKUP(D175,ADMIN!$C$2:$D$10,2,FALSE))","v":""}]
[null,null,null,null,null,null,"",{"$f":"IF(ISBLANK(A176),\"\",B176&\"_\"&I176&\" \"&VLOOKUP(D176,ADMIN!$C$2:$E$10,3,FALSE))","v":""},{"$f":"IF(ISBLANK(A176),\"\",VLOOKUP(C176,ADMIN!$A$2:$B$22,2,FALSE))","v":""},{"$f":"IF(ISBLANK(A176),\"\",VLOOKUP(D176,ADMIN!$C$2:$D$10,2,FALSE))","v":""}]
[null,null,null,null,null,null,"",{"$f":"IF(ISBLANK(A177),\"\",B177&\"_\"&I177&\" \"&VLOOKUP(D177,ADMIN!$C$2:$E$10,3,FALSE))","v":""},{"$f":"IF(ISBLANK(A177),\"\",VLOOKUP(C177,ADMIN!$A$2:$B$22,2,FALSE))","v":""},{"$f":"IF(ISBLANK(A177),\"\",VLOOKUP(D177,ADMIN!$C$2:$D$10,2,FALSE))","v":""}]
[null,null,null,null,null,null,"",{"$f":"IF(ISBLANK(A178),\"\",B178&\"_\"&I178&\" \"&VLOOKUP(D178,ADMIN!$C$2:$E$10,3,FALSE))","v":""},{"$f":"IF(ISBLANK(A178),\"\",VLOOKUP(C178,ADMIN!$A$2:$B$22,2,FALSE))","v":""},{"$f":"IF(ISBLANK(A178),\"\",VLOOKUP(D178,ADMIN!$C$2:$D$10,2,FALSE))","v":""}]
[null,null,null,null,null,null,"",{"$f":"IF(ISBLANK(A179),\"\",B179&\"_\"&I179&\" \"&VLOOKUP(D179,ADMIN!$C$2:$E$10,3,FALSE))","v":""},{"$f":"IF(ISBLANK(A179),\"\",VLOOKUP(C179,ADMIN!$A$2:$B$22,2,FALSE))","v":""},{"$f":"IF(ISBLANK(A179),\"\",VLOOKUP(D179,ADMIN!$C$2:$D$10,2,FALSE))","v":""}]
[null,null,null,null,null,null,"",{"$f":"IF(ISBLANK(A180),\"\",B180&\"_\"&I180&\" \"&VLOOKUP(D180,ADMIN!$C$2:$E$10,3,FALSE))","v":""},{"$f":"IF(ISBLANK(A180),\"\",VLOOKUP(C180,ADMIN!$A$2:$B$22,2,FALSE))","v":""},{"$f":"IF(ISBLANK(A180),\"\",VLOOKUP(D180,ADMIN!$C$2:$D$10,2,FALSE))","v":""}]
[null,null,null,null,null,null,"",{"$f":"IF(ISBLANK(A181),\"\",B181&\"_\"&I181&\" \"&VLOOKUP(D181,ADMIN!$C$2:$E$10,3,FALSE))","v":""},{"$f":"IF(ISBLANK(A181),\"\",VLOOKUP(C181,ADMIN!$A$2:$B$22,2,FALSE))","v":""},{"$f":"IF(ISBLANK(A181),\"\",VLOOKUP(D181,ADMIN!$C$2:$D$10,2,FALSE))","v":""}]
[null,null,null,null,null,null,"",{"$f":"IF(ISBLANK(A182),\"\",B182&\"_\"&I182&\" \"&VLOOKUP(D182,ADMIN!$C$2:$E$10,3,FALSE))","v":""},{"$f":"IF(ISBLANK(A182),\"\",VLOOKUP(C182,ADMIN!$A$2:$B$22,2,FALSE))","v":""},{"$f":"IF(ISBLANK(A182),\"\",VLOOKUP(D182,ADMIN!$C$2:$D$10,2,FALSE))","v":""}]
[null,null,null,null,null,null,"",{"$f":"IF(ISBLANK(A183),\"\",B183&\"_\"&I183&\" \"&VLOOKUP(D183,ADMIN!$C$2:$E$10,3,FALSE))","v":""},{"$f":"IF(ISBLANK(A183),\"\",VLOOKUP(C183,ADMIN!$A$2:$B$22,2,FALSE))","v":""},{"$f":"IF(ISBLANK(A183),\"\",VLOOKUP(D183,ADMIN!$C$2:$D$10,2,FALSE))","v":""}]
[null,null,null,null,null,null,"",{"$f":"IF(ISBLANK(A184),\"\",B184&\"_\"&I184&\" \"&VLOOKUP(D184,ADMIN!$C$2:$E$10,3,FALSE))","v":""},{"$f":"IF(ISBLANK(A184),\"\",VLOOKUP(C184,ADMIN!$A$2:$B$22,2,FALSE))","v":""},{"$f":"IF(ISBLANK(A184),\"\",VLOOKUP(D184,ADMIN!$C$2:$D$10,2,FALSE))","v":""}]
[null,null,null,null,null,null,"",{"$f":"IF(ISBLANK(A185),\"\",B185&\"_\"&I185&\" \"&VLOOKUP(D185,ADMIN!$C$2:$E$10,3,FALSE))","v":""},{"$f":"IF(ISBLANK(A185),\"\",VLOOKUP(C185,ADMIN!$A$2:$B$22,2,FALSE))","v":""},{"$f":"IF(ISBLANK(A185),\"\",VLOOKUP(D185,ADMIN!$C$2:$D$10,2,FALSE))","v":""}]
[null,null,null,null,null,null,"",{"$f":"IF(ISBLANK(A186),\"\",B186&\"_\"&I186&\" \"&VLOOKUP(D186,ADMIN!$C$2:$E$10,3,FALSE))","v":""},{"$f":"IF(ISBLANK(A186),\"\",VLOOKUP(C186,ADMIN!$A$2:$B$22,2,FALSE))","v":""},{"$f":"IF(ISBLANK(A186),\"\",VLOOKUP(D186,ADMIN!$C$2:$D$10,2,FALSE))","v":""}]
[null,null,null,null,null,null,"",{"$f":"IF(ISBLANK(A187),\"\",B187&\"_\"&I187&\" \"&VLOOKUP(D187,ADMIN!$C$2:$E$10,3,FALSE))","v":""},{"$f":"IF(ISBLANK(A187),\"\",VLOOKUP(C187,ADMIN!$A$2:$B$22,2,FALSE))","v":""},{"$f":"IF(ISBLANK(A187),\"\",VLOOKUP(D187,ADMIN!$C$2:$D$10,2,FALSE))","v":""}]
[null,null,null,null,null,null,"",{"$f":"IF(ISBLANK(A188),\"\",B188&\"_\"&I188&\" \"&VLOOKUP(D188,ADMIN!$C$2:$E$10,3,FALSE))","v":""},{"$f":"IF(ISBLANK(A188),\"\",VLOOKUP(C188,ADMIN!$A$2:$B$22,2,FALSE))","v":""},{"$f":"IF(ISBLANK(A188),\"\",VLOOKUP(D188,ADMIN!$C$2:$D$10,2,FALSE))","v":""}]
[null,null,null,null,null,null,"",{"$f":"IF(ISBLANK(A189),\"\",B189&\"_\"&I189&\" \"&VLOOKUP(D189,ADMIN!$C$2:$E$10,3,FALSE))","v":""},{"$f":"IF(ISBLANK(A189),\"\",VLOOKUP(C189,ADMIN!$A$2:$B$22,2,FALSE))","v":""},{"$f":"IF(ISBLANK(A189),\"\",VLOOKUP(D189,ADMIN!$C$2:$D$10,2,FALSE))","v":""}]
[null,null,null,null,null,null,"",{"$f":"IF(ISBLANK(A190),\"\",B190&\"_\"&I190&\" \"&VLOOKUP(D190,ADMIN!$C$2:$E$10,3,FALSE))","v":""},{"$f":"IF(ISBLANK(A190),\"\",VLOOKUP(C190,ADMIN!$A$2:$B$22,2,FALSE))","v":""},{"$f":"IF(ISBLANK(A190),\"\",VLOOKUP(D190,ADMIN!$C$2:$D$10,2,FALSE))","v":""}]
[null,null,null,null,null,null,"",{"$f":"IF(ISBLANK(A191),\"\",B191&\"_\"&I191&\" \"&VLOOKUP(D191,ADMIN!$C$2:$E$10,3,FALSE))","v":""},{"$f":"IF(ISBLANK(A191),\"\",VLOOKUP(C191,ADMIN!$A$2:$B$22,2,FALSE))","v":""},{"$f":"IF(ISBLANK(A191),\"\",VLOOKUP(D191,ADMIN!$C$2:$D$10,2,FALSE))","v":""}]
[null,null,null,null,null,null,"",{"$f":"IF(ISBLANK(A192),\"\",B192&\"_\"&I192&\" \"&VLOOKUP(D192,ADMIN!$C$2:$E$10,3,FALSE))","v":""},{"$f":"IF(ISBLANK(A192),\"\",VLOOKUP(C192,ADMIN!$A$2:$B$22,2,FALSE))","v":""},{"$f":"IF(ISBLANK(A192),\"\",VLOOKUP(D192,ADMIN!$C$2:$D$10,2,FALSE))","v":""}]
[null,null,null,null,null,null,"",{"$f":"IF(ISBLANK(A193),\"\",B193&\"_\"&I193&\" \"&VLOOKUP(D193,ADMIN!$C$2:$E$10,3,FALSE))","v":""},{"$f":"IF(ISBLANK(A193),\"\",VLOOKUP(C193,ADMIN!$A$2:$B$22,2,FALSE))","v":""},{"$f":"IF(ISBLANK(A193),\"\",VLOOKUP(D193,ADMIN!$C$2:$D$10,2,FALSE))","v":""}]
[null,null,null,null,null,null,"",{"$f":"IF(ISBLANK(A194),\"\",B194&\"_\"&I194&\" \"&VLOOKUP(D194,ADMIN!$C$2:$E$10,3,FALSE))","v":""},{"$f":"IF(ISBLANK(A194),\"\",VLOOKUP(C194,ADMIN!$A$2:$B$22,2,FALSE))","v":""},{"$f":"IF(ISBLANK(A194),\"\",VLOOKUP(D194,ADMIN!$C$2:$D$10,2,FALSE))","v":""}]
[null,null,null,null,null,null,{"$f":"IF(ISBLANK(A195),\"\",B195&\"_\"&I195&\"_\"&J195)","v":""},{"$f":"IF(ISBLANK(A195),\"\",B195&\"_\"&I195&\" \"&VLOOKUP(D195,ADMIN!$C$2:$E$10,3,FALSE))","v":""},{"$f":"IF(ISBLANK(A195),\"\",VLOOKUP(C195,ADMIN!$A$2:$B$22,2,FALSE))","v":""},{"$f":"IF(ISBLANK(A195),\"\",VLOOKUP(D195,ADMIN!$C$2:$D$10,2,FALSE))","v":""}]
[null,null,null,null,null,null,"",{"$f":"IF(ISBLANK(A196),\"\",B196&\"_\"&I196&\" \"&VLOOKUP(D196,ADMIN!$C$2:$E$10,3,FALSE))","v":""},{"$f":"IF(ISBLANK(A196),\"\",VLOOKUP(C196,ADMIN!$A$2:$B$22,2,FALSE))","v":""},{"$f":"IF(ISBLANK(A196),\"\",VLOOKUP(D196,ADMIN!$C$2:$D$10,2,FALSE))","v":""}]
[null,null,null,null,null,null,"",{"$f":"IF(ISBLANK(A197),\"\",B197&\"_\"&I197&\" \"&VLOOKUP(D197,ADMIN!$C$2:$E$10,3,FALSE))","v":""},{"$f":"IF(ISBLANK(A197),\"\",VLOOKUP(C197,ADMIN!$A$2:$B$22,2,FALSE))","v":""},{"$f":"IF(ISBLANK(A197),\"\",VLOOKUP(D197,ADMIN!$C$2:$D$10,2,FALSE))","v":""}]
[null,null,null,null,null,null,"",{"$f":"IF(ISBLANK(A198),\"\",B198&\"_\"&I198&\" \"&VLOOKUP(D198,ADMIN!$C$2:$E$10,3,FALSE))","v":""},{"$f":"IF(ISBLANK(A198),\"\",VLOOKUP(C198,ADMIN!$A$2:$B$22,2,FALSE))","v":""},{"$f":"IF(ISBLANK(A198),\"\",VLOOKUP(D198,ADMIN!$C$2:$D$10,2,FALSE))","v":""}]
[null,null,null,null,null,null,"",{"$f":"IF(ISBLANK(A199),\"\",B199&\"_\"&I199&\" \"&VLOOKUP(D199,ADMIN!$C$2:$E$10,3,FALSE))","v":""},{"$f":"IF(ISBLANK(A199),\"\",VLOOKUP(C199,ADMIN!$A$2:$B$22,2,FALSE))","v":""},{"$f":"IF(ISBLANK(A199),\"\",VLOOKUP(D199,ADMIN!$C$2:$D$10,2,FALSE))","v":""}]
[null,null,null,null,null,null,"",{"$f":"IF(ISBLANK(A200),\"\",B200&\"_\"&I200&\" \"&VLOOKUP(D200,ADMIN!$C$2:$E$10,3,FALSE))","v":""},{"$f":"IF(ISBLANK(A200),\"\",VLOOKUP(C200,ADMIN!$A$2:$B$22,2,FALSE))","v":""},{"$f":"IF(ISBLANK(A200),\"\",VLOOKUP(D200,ADMIN!$C$2:$D$10,2,FALSE))","v":""}]
[null,null,null,null,null,null,"",{"$f":"IF(ISBLANK(A201),\"\",B201&\"_\"&I201&\" \"&VLOOKUP(D201,ADMIN!$C$2:$E$10,3,FALSE))","v":""},{"$f":"IF(ISBLANK(A201),\"\",VLOOKUP(C201,ADMIN!$A$2:$B$22,2,FALSE))","v":""},{"$f":"IF(ISBLANK(A201),\"\",VLOOKUP(D201,ADMIN!$C$2:$D$10,2,FALSE))","v":""}]
[null,null,null,null,null,null,"",{"$f":"IF(ISBLANK(A202),\"\",B202&\"_\"&I202&\" \"&VLOOKUP(D202,ADMIN!$C$2:$E$10,3,FALSE))","v":""},{"$f":"IF(ISBLANK(A202),\"\",VLOOKUP(C202,ADMIN!$A$2:$B$22,2,FALSE))","v":""},{"$f":"IF(ISBLANK(A202),\"\",VLOOKUP(D202,ADMIN!$C$2:$D$10,2,FALSE))","v":""}]
[null,null,null,null,null,null,"",{"$f":"IF(ISBLANK(A203),\"\",B203&\"_\"&I203&\" \"&VLOOKUP(D203,ADMIN!$C$2:$E$10,3,FALSE))","v":""},{"$f":"IF(ISBLANK(A203),\"\",VLOOKUP(C203,ADMIN!$A$2:$B$22,2,FALSE))","v":""},{"$f":"IF(ISBLANK(A203),\"\",VLOOKUP(D203,ADMIN!$C$2:$D$10,2,FALSE))","v":""}]
[null,null,null,null,null,null,"",{"$f":"IF(ISBLANK(A204),\"\",B204&\"_\"&I204&\" \"&VLOOKUP(D204,ADMIN!$C$2:$E$10,3,FALSE))","v":""},{"$f":"IF(ISBLANK(A204),\"\",VLOOKUP(C204,ADMIN!$A$2:$B$22,2,FALSE))","v":""},{"$f":"IF(ISBLANK(A204),\"\",VLOOKUP(D204,ADMIN!$C$2:$D$10,2,FALSE))","v":""}]
[null,null,null,null,null,null,"",{"$f":"IF(ISBLANK(A205),\"\",B205&\"_\"&I205&\" \"&VLOOKUP(D205,ADMIN!$C$2:$E$10,3,FALSE))","v":""},{"$f":"IF(ISBLANK(A205),\"\",VLOOKUP(C205,ADMIN!$A$2:$B$22,2,FALSE))","v":""},{"$f":"IF(ISBLANK(A205),\"\",VLOOKUP(D205,ADMIN!$C$2:$D$10,2,FALSE))","v":""}]
[null,null,null,null,null,null,"",{"$f":"IF(ISBLANK(A206),\"\",B206&\"_\"&I206&\" \"&VLOOKUP(D206,ADMIN!$C$2:$E$10,3,FALSE))","v":""},{"$f":"IF(ISBLANK(A206),\"\",VLOOKUP(C206,ADMIN!$A$2:$B$22,2,FALSE))","v":""},{"$f":"IF(ISBLANK(A206),\"\",VLOOKUP(D206,ADMIN!$C$2:$D$10,2,FALSE))","v":""}]
[null,null,null,null,null,null,"",{"$f":"IF(ISBLANK(A207),\"\",B207&\"_\"&I207&\" \"&VLOOKUP(D207,ADMIN!$C$2:$E$10,3,FALSE))","v":""},{"$f":"IF(ISBLANK(A207),\"\",VLOOKUP(C207,ADMIN!$A$2:$B$22,2,FALSE))","v":""},{"$f":"IF(ISBLANK(A207),\"\",VLOOKUP(D207,ADMIN!$C$2:$D$10,2,FALSE))","v":""}]
[null,null,null,null,null,null,"",{"$f":"IF(ISBLANK(A208),\"\",B208&\"_\"&I208&\" \"&VLOOKUP(D208,ADMIN!$C$2:$E$10,3,FALSE))","v":""},{"$f":"IF(ISBLANK(A208),\"\",VLOOKUP(C208,ADMIN!$A$2:$B$22,2,FALSE))","v":""},{"$f":"IF(ISBLANK(A208),\"\",VLOOKUP(D208,ADMIN!$C$2:$D$10,2,FALSE))","v":""}]
[null,null,null,null,null,null,"",{"$f":"IF(ISBLANK(A209),\"\",B209&\"_\"&I209&\" \"&VLOOKUP(D209,ADMIN!$C$2:$E$10,3,FALSE))","v":""},{"$f":"IF(ISBLANK(A209),\"\",VLOOKUP(C209,ADMIN!$A$2:$B$22,2,FALSE))","v":""},{"$f":"IF(ISBLANK(A209),\"\",VLOOKUP(D209,ADMIN!$C$2:$D$10,2,FALSE))","v":""}]
[null,null,null,null,null,null,"",{"$f":"IF(ISBLANK(A210),\"\",B210&\"_\"&I210&\" \"&VLOOKUP(D210,ADMIN!$C$2:$E$10,3,FALSE))","v":""},{"$f":"IF(ISBLANK(A210),\"\",VLOOKUP(C210,ADMIN!$A$2:$B$22,2,FALSE))","v":""},{"$f":"IF(ISBLANK(A210),\"\",VLOOKUP(D210,ADMIN!$C$2:$D$10,2,FALSE))","v":""}]
[null,null,null,null,null,null,"",{"$f":"IF(ISBLANK(A211),\"\",B211&\"_\"&I211&\" \"&VLOOKUP(D211,ADMIN!$C$2:$E$10,3,FALSE))","v":""},{"$f":"IF(ISBLANK(A211),\"\",VLOOKUP(C211,ADMIN!$A$2:$B$22,2,FALSE))","v":""},{"$f":"IF(ISBLANK(A211),\"\",VLOOKUP(D211,ADMIN!$C$2:$D$10,2,FALSE))","v":""}]
[null,null,null,null,null,null,"",{"$f":"IF(ISBLANK(A212),\"\",B212&\"_\"&I212&\" \"&VLOOKUP(D212,ADMIN!$C$2:$E$10,3,FALSE))","v":""},{"$f":"IF(ISBLANK(A212),\"\",VLOOKUP(C212,ADMIN!$A$2:$B$22,2,FALSE))","v":""},{"$f":"IF(ISBLANK(A212),\"\",VLOOKUP(D212,ADMIN!$C$2:$D$10,2,FALSE))","v":""}]
[null,null,null,null,null,null,"",{"$f":"IF(ISBLANK(A213),\"\",B213&\"_\"&I213&\" \"&VLOOKUP(D213,ADMIN!$C$2:$E$10,3,FALSE))","v":""},{"$f":"IF(ISBLANK(A213),\"\",VLOOKUP(C213,ADMIN!$A$2:$B$22,2,FALSE))","v":""},{"$f":"IF(ISBLANK(A213),\"\",VLOOKUP(D213,ADMIN!$C$2:$D$10,2,FALSE))","v":""}]
[null,null,null,null,null,null,"",{"$f":"IF(ISBLANK(A214),\"\",B214&\"_\"&I214&\" \"&VLOOKUP(D214,ADMIN!$C$2:$E$10,3,FALSE))","v":""},{"$f":"IF(ISBLANK(A214),\"\",VLOOKUP(C214,ADMIN!$A$2:$B$22,2,FALSE))","v":""},{"$f":"IF(ISBLANK(A214),\"\",VLOOKUP(D214,ADMIN!$C$2:$D$10,2,FALSE))","v":""}]
[null,null,null,null,null,null,"",{"$f":"IF(ISBLANK(A215),\"\",B215&\"_\"&I215&\" \"&VLOOKUP(D215,ADMIN!$C$2:$E$10,3,FALSE))","v":""},{"$f":"IF(ISBLANK(A215),\"\",VLOOKUP(C215,ADMIN!$A$2:$B$22,2,FALSE))","v":""},{"$f":"IF(ISBLANK(A215),\"\",VLOOKUP(D215,ADMIN!$C$2:$D$10,2,FALSE))","v":""}]
[null,null,null,null,null,null,"",{"$f":"IF(ISBLANK(A216),\"\",B216&\"_\"&I216&\" \"&VLOOKUP(D216,ADMIN!$C$2:$E$10,3,FALSE))","v":""},{"$f":"IF(ISBLANK(A216),\"\",VLOOKUP(C216,ADMIN!$A$2:$B$22,2,FALSE))","v":""},{"$f":"IF(ISBLANK(A216),\"\",VLOOKUP(D216,ADMIN!$C$2:$D$10,2,FALSE))","v":""}]
[null,null,null,null,null,null,"",{"$f":"IF(ISBLANK(A217),\"\",B217&\"_\"&I217&\" \"&VLOOKUP(D217,ADMIN!$C$2:$E$10,3,FALSE))","v":""},{"$f":"IF(ISBLANK(A217),\"\",VLOOKUP(C217,ADMIN!$A$2:$B$22,2,FALSE))","v":""},{"$f":"IF(ISBLANK(A217),\"\",VLOOKUP(D217,ADMIN!$C$2:$D$10,2,FALSE))","v":""}]
[null,null,null,null,null,null,"",{"$f":"IF(ISBLANK(A218),\"\",B218&\"_\"&I218&\" \"&VLOOKUP(D218,ADMIN!$C$2:$E$10,3,FALSE))","v":""},{"$f":"IF(ISBLANK(A218),\"\",VLOOKUP(C218,ADMIN!$A$2:$B$22,2,FALSE))","v":""},{"$f":"IF(ISBLANK(A218),\"\",VLOOKUP(D218,ADMIN!$C$2:$D$10,2,FALSE))","v":""}]
[null,null,null,null,null,null,"",{"$f":"IF(ISBLANK(A219),\"\",B219&\"_\"&I219&\" \"&VLOOKUP(D219,ADMIN!$C$2:$E$10,3,FALSE))","v":""},{"$f":"IF(ISBLANK(A219),\"\",VLOOKUP(C219,ADMIN!$A$2:$B$22,2,FALSE))","v":""},{"$f":"IF(ISBLANK(A219),\"\",VLOOKUP(D219,ADMIN!$C$2:$D$10,2,FALSE))","v":""}]
[null,null,null,null,null,null,"",{"$f":"IF(ISBLANK(A220),\"\",B220&\"_\"&I220&\" \"&VLOOKUP(D220,ADMIN!$C$2:$E$10,3,FALSE))","v":""},{"$f":"IF(ISBLANK(A220),\"\",VLOOKUP(C220,ADMIN!$A$2:$B$22,2,FALSE))","v":""},{"$f":"IF(ISBLANK(A220),\"\",VLOOKUP(D220,ADMIN!$C$2:$D$10,2,FALSE))","v":""}]
[null,null,null,null,null,null,"",{"$f":"IF(ISBLANK(A221),\"\",B221&\"_\"&I221&\" \"&VLOOKUP(D221,ADMIN!$C$2:$E$10,3,FALSE))","v":""},{"$f":"IF(ISBLANK(A221),\"\",VLOOKUP(C221,ADMIN!$A$2:$B$22,2,FALSE))","v":""},{"$f":"IF(ISBLANK(A221),\"\",VLOOKUP(D221,ADMIN!$C$2:$D$10,2,FALSE))","v":""}]
[null,null,null,null,null,null,"",{"$f":"IF(ISBLANK(A222),\"\",B222&\"_\"&I222&\" \"&VLOOKUP(D222,ADMIN!$C$2:$E$10,3,FALSE))","v":""},{"$f":"IF(ISBLANK(A222),\"\",VLOOKUP(C222,ADMIN!$A$2:$B$22,2,FALSE))","v":""},{"$f":"IF(ISBLANK(A222),\"\",VLOOKUP(D222,ADMIN!$C$2:$D$10,2,FALSE))","v":""}]
[null,null,null,null,null,null,"",{"$f":"IF(ISBLANK(A223),\"\",B223&\"_\"&I223&\" \"&VLOOKUP(D223,ADMIN!$C$2:$E$10,3,FALSE))","v":""},{"$f":"IF(ISBLANK(A223),\"\",VLOOKUP(C223,ADMIN!$A$2:$B$22,2,FALSE))","v":""},{"$f":"IF(ISBLANK(A223),\"\",VLOOKUP(D223,ADMIN!$C$2:$D$10,2,FALSE))","v":""}]
[null,null,null,null,null,null,"",{"$f":"IF(ISBLANK(A224),\"\",B224&\"_\"&I224&\" \"&VLOOKUP(D224,ADMIN!$C$2:$E$10,3,FALSE))","v":""},{"$f":"IF(ISBLANK(A224),\"\",VLOOKUP(C224,ADMIN!$A$2:$B$22,2,FALSE))","v":""},{"$f":"IF(ISBLANK(A224),\"\",VLOOKUP(D224,ADMIN!$C$2:$D$10,2,FALSE))","v":""}]
[null,null,null,null,null,null,"",{"$f":"IF(ISBLANK(A225),\"\",B225&\"_\"&I225&\" \"&VLOOKUP(D225,ADMIN!$C$2:$E$10,3,FALSE))","v":""},{"$f":"IF(ISBLANK(A225),\"\",VLOOKUP(C225,ADMIN!$A$2:$B$22,2,FALSE))","v":""},{"$f":"IF(ISBLANK(A225),\"\",VLOOKUP(D225,ADMIN!$C$2:$D$10,2,FALSE))","v":""}]
[null,null,null,null,null,null,"",{"$f":"IF(ISBLANK(A226),\"\",B226&\"_\"&I226&\" \"&VLOOKUP(D226,ADMIN!$C$2:$E$10,3,FALSE))","v":""},{"$f":"IF(ISBLANK(A226),\"\",VLOOKUP(C226,ADMIN!$A$2:$B$22,2,FALSE))","v":""},{"$f":"IF(ISBLANK(A226),\"\",VLOOKUP(D226,ADMIN!$C$2:$D$10,2,FALSE))","v":""}]
[null,null,null,null,null,null,"",{"$f":"IF(ISBLANK(A227),\"\",B227&\"_\"&I227&\" \"&VLOOKUP(D227,ADMIN!$C$2:$E$10,3,FALSE))","v":""},{"$f":"IF(ISBLANK(A227),\"\",VLOOKUP(C227,ADMIN!$A$2:$B$22,2,FALSE))","v":""},{"$f":"IF(ISBLANK(A227),\"\",VLOOKUP(D227,ADMIN!$C$2:$D$10,2,FALSE))","v":""}]
[null,null,null,null,null,null,"",{"$f":"IF(ISBLANK(A228),\"\",B228&\"_\"&I228&\" \"&VLOOKUP(D228,ADMIN!$C$2:$E$10,3,FALSE))","v":""},{"$f":"IF(ISBLANK(A228),\"\",VLOOKUP(C228,ADMIN!$A$2:$B$22,2,FALSE))","v":""},{"$f":"IF(ISBLANK(A228),\"\",VLOOKUP(D228,ADMIN!$C$2:$D$10,2,FALSE))","v":""}]
[null,null,null,null,null,null,"",{"$f":"IF(ISBLANK(A229),\"\",B229&\"_\"&I229&\" \"&VLOOKUP(D229,ADMIN!$C$2:$E$10,3,FALSE))","v":""},{"$f":"IF(ISBLANK(A229),\"\",VLOOKUP(C229,ADMIN!$A$2:$B$22,2,FALSE))","v":""},{"$f":"IF(ISBLANK(A229),\"\",VLOOKUP(D229,ADMIN!$C$2:$D$10,2,FALSE))","v":""}]
[null,null,null,null,null,null,"",{"$f":"IF(ISBLANK(A230),\"\",B230&\"_\"&I230&\" \"&VLOOKUP(D230,ADMIN!$C$2:$E$10,3,FALSE))","v":""},{"$f":"IF(ISBLANK(A230),\"\",VLOOKUP(C230,ADMIN!$A$2:$B$22,2,FALSE))","v":""},{"$f":"IF(ISBLANK(A230),\"\",VLOOKUP(D230,ADMIN!$C$2:$D$10,2,FALSE))","v":""}]
[null,null,null,null,null,null,"",{"$f":"IF(ISBLANK(A231),\"\",B231&\"_\"&I231&\" \"&VLOOKUP(D231,ADMIN!$C$2:$E$10,3,FALSE))","v":""},{"$f":"IF(ISBLANK(A231),\"\",VLOOKUP(C231,ADMIN!$A$2:$B$22,2,FALSE))","v":""},{"$f":"IF(ISBLANK(A231),\"\",VLOOKUP(D231,ADMIN!$C$2:$D$10,2,FALSE))","v":""}]
[null,null,null,null,null,null,"",{"$f":"IF(ISBLANK(A232),\"\",B232&\"_\"&I232&\" \"&VLOOKUP(D232,ADMIN!$C$2:$E$10,3,FALSE))","v":""},{"$f":"IF(ISBLANK(A232),\"\",VLOOKUP(C232,ADMIN!$A$2:$B$22,2,FALSE))","v":""},{"$f":"IF(ISBLANK(A232),\"\",VLOOKUP(D232,ADMIN!$C$2:$D$10,2,FALSE))","v":""}]
[null,null,null,null,null,null,"",{"$f":"IF(ISBLANK(A233),\"\",B233&\"_\"&I233&\" \"&VLOOKUP(D233,ADMIN!$C$2:$E$10,3,FALSE))","v":""},{"$f":"IF(ISBLANK(A233),\"\",VLOOKUP(C233,ADMIN!$A$2:$B$22,2,FALSE))","v":""},{"$f":"IF(ISBLANK(A233),\"\",VLOOKUP(D233,ADMIN!$C$2:$D$10,2,FALSE))","v":""}]
[null,null,null,null,null,null,"",{"$f":"IF(ISBLANK(A234),\"\",B234&\"_\"&I234&\" \"&VLOOKUP(D234,ADMIN!$C$2:$E$10,3,FALSE))","v":""},{"$f":"IF(ISBLANK(A234),\"\",VLOOKUP(C234,ADMIN!$A$2:$B$22,2,FALSE))","v":""},{"$f":"IF(ISBLANK(A234),\"\",VLOOKUP(D234,ADMIN!$C$2:$D$10,2,FALSE))","v":""}]
[null,null,null,null,null,null,"",{"$f":"IF(ISBLANK(A235),\"\",B235&\"_\"&I235&\" \"&VLOOKUP(D235,ADMIN!$C$2:$E$10,3,FALSE))","v":""},{"$f":"IF(ISBLANK(A235),\"\",VLOOKUP(C235,ADMIN!$A$2:$B$22,2,FALSE))","v":""},{"$f":"IF(ISBLANK(A235),\"\",VLOOKUP(D235,ADMIN!$C$2:$D$10,2,FALSE))","v":""}]
[null,null,null,null,null,null,"",{"$f":"IF(ISBLANK(A236),\"\",B236&\"_\"&I236&\" \"&VLOOKUP(D236,ADMIN!$C$2:$E$10,3,FALSE))","v":""},{"$f":"IF(ISBLANK(A236),\"\",VLOOKUP(C236,ADMIN!$A$2:$B$22,2,FALSE))","v":""},{"$f":"IF(ISBLANK(A236),\"\",VLOOKUP(D236,ADMIN!$C$2:$D$10,2,FALSE))","v":""}]
[null,null,null,null,null,null,"",{"$f":"IF(ISBLANK(A237),\"\",B237&\"_\"&I237&\" \"&VLOOKUP(D237,ADMIN!$C$2:$E$10,3,FALSE))","v":""},{"$f":"IF(ISBLANK(A237),\"\",VLOOKUP(C237,ADMIN!$A$2:$B$22,2,FALSE))","v":""},{"$f":"IF(ISBLANK(A237),\"\",VLOOKUP(D237,ADMIN!$C$2:$D$10,2,FALSE))","v":""}]
[null,null,null,null,null,null,"",{"$f":"IF(ISBLANK(A238),\"\",B238&\"_\"&I238&\" \"&VLOOKUP(D238,ADMIN!$C$2:$E$10,3,FALSE))","v":""},{"$f":"IF(ISBLANK(A238),\"\",VLOOKUP(C238,ADMIN!$A$2:$B$22,2,FALSE))","v":""},{"$f":"IF(ISBLANK(A238),\"\",VLOOKUP(D238,ADMIN!$C$2:$D$10,2,FALSE))","v":""}]
[null,null,null,null,null,null,"",{"$f":"IF(ISBLANK(A239),\"\",B239&\"_\"&I239&\" \"&VLOOKUP(D239,ADMIN!$C$2:$E$10,3,FALSE))","v":""},{"$f":"IF(ISBLANK(A239),\"\",VLOOKUP(C239,ADMIN!$A$2:$B$22,2,FALSE))","v":""},{"$f":"IF(ISBLANK(A239),\"\",VLOOKUP(D239,ADMIN!$C$2:$D$10,2,FALSE))","v":""}]
[null,null,null,null,null,null,"",{"$f":"IF(ISBLANK(A240),\"\",B240&\"_\"&I240&\" \"&VLOOKUP(D240,ADMIN!$C$2:$E$10,3,FALSE))","v":""},{"$f":"IF(ISBLANK(A240),\"\",VLOOKUP(C240,ADMIN!$A$2:$B$22,2,FALSE))","v":""},{"$f":"IF(ISBLANK(A240),\"\",VLOOKUP(D240,ADMIN!$C$2:$D$10,2,FALSE))","v":""}]
[null,null,null,null,null,null,"",{"$f":"IF(ISBLANK(A241),\"\",B241&\"_\"&I241&\" \"&VLOOKUP(D241,ADMIN!$C$2:$E$10,3,FALSE))","v":""},{"$f":"IF(ISBLANK(A241),\"\",VLOOKUP(C241,ADMIN!$A$2:$B$22,2,FALSE))","v":""},{"$f":"IF(ISBLANK(A241),\"\",VLOOKUP(D241,ADMIN!$C$2:$D$10,2,FALSE))","v":""}]
[null,null,null,null,null,null,"",{"$f":"IF(ISBLANK(A242),\"\",B242&\"_\"&I242&\" \"&VLOOKUP(D242,ADMIN!$C$2:$E$10,3,FALSE))","v":""},{"$f":"IF(ISBLANK(A242),\"\",VLOOKUP(C242,ADMIN!$A$2:$B$22,2,FALSE))","v":""},{"$f":"IF(ISBLANK(A242),\"\",VLOOKUP(D242,ADMIN!$C$2:$D$10,2,FALSE))","v":""}]
[null,null,null,null,null,null,"",{"$f":"IF(ISBLANK(A243),\"\",B243&\"_\"&I243&\" \"&VLOOKUP(D243,ADMIN!$C$2:$E$10,3,FALSE))","v":""},{"$f":"IF(ISBLANK(A243),\"\",VLOOKUP(C243,ADMIN!$A$2:$B$22,2,FALSE))","v":""},{"$f":"IF(ISBLANK(A243),\"\",VLOOKUP(D243,ADMIN!$C$2:$D$10,2,FALSE))","v":""}]
[null,null,null,null,null,null,"",{"$f":"IF(ISBLANK(A244),\"\",B244&\"_\"&I244&\" \"&VLOOKUP(D244,ADMIN!$C$2:$E$10,3,FALSE))","v":""},{"$f":"IF(ISBLANK(A244),\"\",VLOOKUP(C244,ADMIN!$A$2:$B$22,2,FALSE))","v":""},{"$f":"IF(ISBLANK(A244),\"\",VLOOKUP(D244,ADMIN!$C$2:$D$10,2,FALSE))","v":""}]
[null,null,null,null,null,null,"",{"$f":"IF(ISBLANK(A245),\"\",B245&\"_\"&I245&\" \"&VLOOKUP(D245,ADMIN!$C$2:$E$10,3,FALSE))","v":""},{"$f":"IF(ISBLANK(A245),\"\",VLOOKUP(C245,ADMIN!$A$2:$B$22,2,FALSE))","v":""},{"$f":"IF(ISBLANK(A245),\"\",VLOOKUP(D245,ADMIN!$C$2:$D$10,2,FALSE))","v":""}]
[null,null,null,null,null,null,"",{"$f":"IF(ISBLANK(A246),\"\",B246&\"_\"&I246&\" \"&VLOOKUP(D246,ADMIN!$C$2:$E$10,3,FALSE))","v":""},{"$f":"IF(ISBLANK(A246),\"\",VLOOKUP(C246,ADMIN!$A$2:$B$22,2,FALSE))","v":""},{"$f":"IF(ISBLANK(A246),\"\",VLOOKUP(D246,ADMIN!$C$2:$D$10,2,FALSE))","v":""}]
[null,null,null,null,null,null,"",{"$f":"IF(ISBLANK(A247),\"\",B247&\"_\"&I247&\" \"&VLOOKUP(D247,ADMIN!$C$2:$E$10,3,FALSE))","v":""},{"$f":"IF(ISBLANK(A247),\"\",VLOOKUP(C247,ADMIN!$A$2:$B$22,2,FALSE))","v":""},{"$f":"IF(ISBLANK(A247),\"\",VLOOKUP(D247,ADMIN!$C$2:$D$10,2,FALSE))","v":""}]
[null,null,null,null,null,null,"",{"$f":"IF(ISBLANK(A248),\"\",B248&\"_\"&I248&\" \"&VLOOKUP(D248,ADMIN!$C$2:$E$10,3,FALSE))","v":""},{"$f":"IF(ISBLANK(A248),\"\",VLOOKUP(C248,ADMIN!$A$2:$B$22,2,FALSE))","v":""},{"$f":"IF(ISBLANK(A248),\"\",VLOOKUP(D248,ADMIN!$C$2:$D$10,2,FALSE))","v":""}]
[null,null,null,null,null,null,"",{"$f":"IF(ISBLANK(A249),\"\",B249&\"_\"&I249&\" \"&VLOOKUP(D249,ADMIN!$C$2:$E$10,3,FALSE))","v":""},{"$f":"IF(ISBLANK(A249),\"\",VLOOKUP(C249,ADMIN!$A$2:$B$22,2,FALSE))","v":""},{"$f":"IF(ISBLANK(A249),\"\",VLOOKUP(D249,ADMIN!$C$2:$D$10,2,FALSE))","v":""}]
[null,null,null,null,null,null,"",{"$f":"IF(ISBLANK(A250),\"\",B250&\"_\"&I250&\" \"&VLOOKUP(D250,ADMIN!$C$2:$E$10,3,FALSE))","v":""},{"$f":"IF(ISBLANK(A250),\"\",VLOOKUP(C250,ADMIN!$A$2:$B$22,2,FALSE))","v":""},{"$f":"IF(ISBLANK(A250),\"\",VLOOKUP(D250,ADMIN!$C$2:$D$10,2,FALSE))","v":""}]
[null,null,null,null,null,null,"",{"$f":"IF(ISBLANK(A251),\"\",B251&\"_\"&I251&\" \"&VLOOKUP(D251,ADMIN!$C$2:$E$10,3,FALSE))","v":""},{"$f":"IF(ISBLANK(A251),\"\",VLOOKUP(C251,ADMIN!$A$2:$B$22,2,FALSE))","v":""},{"$f":"IF(ISBLANK(A251),\"\",VLOOKUP(D251,ADMIN!$C$2:$D$10,2,FALSE))","v":""}]
[null,null,null,null,null,null,"",{"$f":"IF(ISBLANK(A252),\"\",B252&\"_\"&I252&\" \"&VLOOKUP(D252,ADMIN!$C$2:$E$10,3,FALSE))","v":""},{"$f":"IF(ISBLANK(A252),\"\",VLOOKUP(C252,ADMIN!$A$2:$B$22,2,FALSE))","v":""},{"$f":"IF(ISBLANK(A252),\"\",VLOOKUP(D252,ADMIN!$C$2:$D$10,2,FALSE))","v":""}]
[null,null,null,null,null,null,"",{"$f":"IF(ISBLANK(A253),\"\",B253&\"_\"&I253&\" \"&VLOOKUP(D253,ADMIN!$C$2:$E$10,3,FALSE))","v":""},{"$f":"IF(ISBLANK(A253),\"\",VLOOKUP(C253,ADMIN!$A$2:$B$22,2,FALSE))","v":""},{"$f":"IF(ISBLANK(A253),\"\",VLOOKUP(D253,ADMIN!$C$2:$D$10,2,FALSE))","v":""}]
[null,null,null,null,null,null,"",{"$f":"IF(ISBLANK(A254),\"\",B254&\"_\"&I254&\" \"&VLOOKUP(D254,ADMIN!$C$2:$E$10,3,FALSE))","v":""},{"$f":"IF(ISBLANK(A254),\"\",VLOOKUP(C254,ADMIN!$A$2:$B$22,2,FALSE))","v":""},{"$f":"IF(ISBLANK(A254),\"\",VLOOKUP(D254,ADMIN!$C$2:$D$10,2,FALSE))","v":""}]
[null,null,null,null,null,null,"",{"$f":"IF(ISBLANK(A255),\"\",B255&\"_\"&I255&\" \"&VLOOKUP(D255,ADMIN!$C$2:$E$10,3,FALSE))","v":""},{"$f":"IF(ISBLANK(A255),\"\",VLOOKUP(C255,ADMIN!$A$2:$B$22,2,FALSE))","v":""},{"$f":"IF(ISBLANK(A255),\"\",VLOOKUP(D255,ADMIN!$C$2:$D$10,2,FALSE))","v":""}]
[null,null,null,null,null,null,"",{"$f":"IF(ISBLANK(A256),\"\",B256&\"_\"&I256&\" \"&VLOOKUP(D256,ADMIN!$C$2:$E$10,3,FALSE))","v":""},{"$f":"IF(ISBLANK(A256),\"\",VLOOKUP(C256,ADMIN!$A$2:$B$22,2,FALSE))","v":""},{"$f":"IF(ISBLANK(A256),\"\",VLOOKUP(D256,ADMIN!$C$2:$D$10,2,FALSE))","v":""}]
[null,null,null,null,null,null,"",{"$f":"IF(ISBLANK(A257),\"\",B257&\"_\"&I257&\" \"&VLOOKUP(D257,ADMIN!$C$2:$E$10,3,FALSE))","v":""},{"$f":"IF(ISBLANK(A257),\"\",VLOOKUP(C257,ADMIN!$A$2:$B$22,2,FALSE))","v":""},{"$f":"IF(ISBLANK(A257),\"\",VLOOKUP(D257,ADMIN!$C$2:$D$10,2,FALSE))","v":""}]
[null,null,null,null,null,null,"",{"$f":"IF(ISBLANK(A258),\"\",B258&\"_\"&I258&\" \"&VLOOKUP(D258,ADMIN!$C$2:$E$10,3,FALSE))","v":""},{"$f":"IF(ISBLANK(A258),\"\",VLOOKUP(C258,ADMIN!$A$2:$B$22,2,FALSE))","v":""},{"$f":"IF(ISBLANK(A258),\"\",VLOOKUP(D258,ADMIN!$C$2:$D$10,2,FALSE))","v":""}]
[null,null,null,null,null,null,{"$f":"IF(ISBLANK(A259),\"\",B259&\"_\"&I259&\"_\"&J259)","v":""},{"$f":"IF(ISBLANK(A259),\"\",B259&\"_\"&I259&\" \"&VLOOKUP(D259,ADMIN!$C$2:$E$10,3,FALSE))","v":""},{"$f":"IF(ISBLANK(A259),\"\",VLOOKUP(C259,ADMIN!$A$2:$B$22,2,FALSE))","v":""},{"$f":"IF(ISBLANK(A259),\"\",VLOOKUP(D259,ADMIN!$C$2:$D$10,2,FALSE))","v":""}]
[null,null,null,null,null,null,"",{"$f":"IF(ISBLANK(A260),\"\",B260&\"_\"&I260&\" \"&VLOOKUP(D260,ADMIN!$C$2:$E$10,3,FALSE))","v":""},{"$f":"IF(ISBLANK(A260),\"\",VLOOKUP(C260,ADMIN!$A$2:$B$22,2,FALSE))","v":""},{"$f":"IF(ISBLANK(A260),\"\",VLOOKUP(D260,ADMIN!$C$2:$D$10,2,FALSE))","v":""}]
[null,null,null,null,null,null,"",{"$f":"IF(ISBLANK(A261),\"\",B261&\"_\"&I261&\" \"&VLOOKUP(D261,ADMIN!$C$2:$E$10,3,FALSE))","v":""},{"$f":"IF(ISBLANK(A261),\"\",VLOOKUP(C261,ADMIN!$A$2:$B$22,2,FALSE))","v":""},{"$f":"IF(ISBLANK(A261),\"\",VLOOKUP(D261,ADMIN!$C$2:$D$10,2,FALSE))","v":""}]
[null,null,null,null,null,null,"",{"$f":"IF(ISBLANK(A262),\"\",B262&\"_\"&I262&\" \"&VLOOKUP(D262,ADMIN!$C$2:$E$10,3,FALSE))","v":""},{"$f":"IF(ISBLANK(A262),\"\",VLOOKUP(C262,ADMIN!$A$2:$B$22,2,FALSE))","v":""},{"$f":"IF(ISBLANK(A262),\"\",VLOOKUP(D262,ADMIN!$C$2:$D$10,2,FALSE))","v":""}]
[null,null,null,null,null,null,"",{"$f":"IF(ISBLANK(A263),\"\",B263&\"_\"&I263&\" \"&VLOOKUP(D263,ADMIN!$C$2:$E$10,3,FALSE))","v":""},{"$f":"IF(ISBLANK(A263),\"\",VLOOKUP(C263,ADMIN!$A$2:$B$22,2,FALSE))","v":""},{"$f":"IF(ISBLANK(A263),\"\",VLOOKUP(D263,ADMIN!$C$2:$D$10,2,FALSE))","v":""}]
[null,null,null,null,null,null,"",{"$f":"IF(ISBLANK(A264),\"\",B264&\"_\"&I264&\" \"&VLOOKUP(D264,ADMIN!$C$2:$E$10,3,FALSE))","v":""},{"$f":"IF(ISBLANK(A264),\"\",VLOOKUP(C264,ADMIN!$A$2:$B$22,2,FALSE))","v":""},{"$f":"IF(ISBLANK(A264),\"\",VLOOKUP(D264,ADMIN!$C$2:$D$10,2,FALSE))","v":""}]
[null,null,null,null,null,null,"",{"$f":"IF(ISBLANK(A265),\"\",B265&\"_\"&I265&\" \"&VLOOKUP(D265,ADMIN!$C$2:$E$10,3,FALSE))","v":""},{"$f":"IF(ISBLANK(A265),\"\",VLOOKUP(C265,ADMIN!$A$2:$B$22,2,FALSE))","v":""},{"$f":"IF(ISBLANK(A265),\"\",VLOOKUP(D265,ADMIN!$C$2:$D$10,2,FALSE))","v":""}]
[null,null,null,null,null,null,"",{"$f":"IF(ISBLANK(A266),\"\",B266&\"_\"&I266&\" \"&VLOOKUP(D266,ADMIN!$C$2:$E$10,3,FALSE))","v":""},{"$f":"IF(ISBLANK(A266),\"\",VLOOKUP(C266,ADMIN!$A$2:$B$22,2,FALSE))","v":""},{"$f":"IF(ISBLANK(A266),\"\",VLOOKUP(D266,ADMIN!$C$2:$D$10,2,FALSE))","v":""}]
[null,null,null,null,null,null,"",{"$f":"IF(ISBLANK(A267),\"\",B267&\"_\"&I267&\" \"&VLOOKUP(D267,ADMIN!$C$2:$E$10,3,FALSE))","v":""},{"$f":"IF(ISBLANK(A267),\"\",VLOOKUP(C267,ADMIN!$A$2:$B$22,2,FALSE))","v":""},{"$f":"IF(ISBLANK(A267),\"\",VLOOKUP(D267,ADMIN!$C$2:$D$10,2,FALSE))","v":""}]
[null,null,null,null,null,null,"",{"$f":"IF(ISBLANK(A268),\"\",B268&\"_\"&I268&\" \"&VLOOKUP(D268,ADMIN!$C$2:$E$10,3,FALSE))","v":""},{"$f":"IF(ISBLANK(A268),\"\",VLOOKUP(C268,ADMIN!$A$2:$B$22,2,FALSE))","v":""},{"$f":"IF(ISBLANK(A268),\"\",VLOOKUP(D268,ADMIN!$C$2:$D$10,2,FALSE))","v":""}]
[null,null,null,null,null,null,"",{"$f":"IF(ISBLANK(A269),\"\",B269&\"_\"&I269&\" \"&VLOOKUP(D269,ADMIN!$C$2:$E$10,3,FALSE))","v":""},{"$f":"IF(ISBLANK(A269),\"\",VLOOKUP(C269,ADMIN!$A$2:$B$22,2,FALSE))","v":""},{"$f":"IF(ISBLANK(A269),\"\",VLOOKUP(D269,ADMIN!$C$2:$D$10,2,FALSE))","v":""}]
[null,null,null,null,null,null,"",{"$f":"IF(ISBLANK(A270),\"\",B270&\"_\"&I270&\" \"&VLOOKUP(D270,ADMIN!$C$2:$E$10,3,FALSE))","v":""},{"$f":"IF(ISBLANK(A270),\"\",VLOOKUP(C270,ADMIN!$A$2:$B$22,2,FALSE))","v":""},{"$f":"IF(ISBLANK(A270),\"\",VLOOKUP(D270,ADMIN!$C$2:$D$10,2,FALSE))","v":""}]
[null,null,null,null,null,null,"",{"$f":"IF(ISBLANK(A271),\"\",B271&\"_\"&I271&\" \"&VLOOKUP(D271,ADMIN!$C$2:$E$10,3,FALSE))","v":""},{"$f":"IF(ISBLANK(A271),\"\",VLOOKUP(C271,ADMIN!$A$2:$B$22,2,FALSE))","v":""},{"$f":"IF(ISBLANK(A271),\"\",VLOOKUP(D271,ADMIN!$C$2:$D$10,2,FALSE))","v":""}]
[null,null,null,null,null,null,"",{"$f":"IF(ISBLANK(A272),\"\",B272&\"_\"&I272&\" \"&VLOOKUP(D272,ADMIN!$C$2:$E$10,3,FALSE))","v":""},{"$f":"IF(ISBLANK(A272),\"\",VLOOKUP(C272,ADMIN!$A$2:$B$22,2,FALSE))","v":""},{"$f":"IF(ISBLANK(A272),\"\",VLOOKUP(D272,ADMIN!$C$2:$D$10,2,FALSE))","v":""}]
[null,null,null,null,null,null,"",{"$f":"IF(ISBLANK(A273),\"\",B273&\"_\"&I273&\" \"&VLOOKUP(D273,ADMIN!$C$2:$E$10,3,FALSE))","v":""},{"$f":"IF(ISBLANK(A273),\"\",VLOOKUP(C273,ADMIN!$A$2:$B$22,2,FALSE))","v":""},{"$f":"IF(ISBLANK(A273),\"\",VLOOKUP(D273,ADMIN!$C$2:$D$10,2,FALSE))","v":""}]
[null,null,null,null,null,null,"",{"$f":"IF(ISBLANK(A274),\"\",B274&\"_\"&I274&\" \"&VLOOKUP(D274,ADMIN!$C$2:$E$10,3,FALSE))","v":""},{"$f":"IF(ISBLANK(A274),\"\",VLOOKUP(C274,ADMIN!$A$2:$B$22,2,FALSE))","v":""},{"$f":"IF(ISBLANK(A274),\"\",VLOOKUP(D274,ADMIN!$C$2:$D$10,2,FALSE))","v":""}]
[null,null,null,null,null,null,"",{"$f":"IF(ISBLANK(A275),\"\",B275&\"_\"&I275&\" \"&VLOOKUP(D275,ADMIN!$C$2:$E$10,3,FALSE))","v":""},{"$f":"IF(ISBLANK(A275),\"\",VLOOKUP(C275,ADMIN!$A$2:$B$22,2,FALSE))","v":""},{"$f":"IF(ISBLANK(A275),\"\",VLOOKUP(D275,ADMIN!$C$2:$D$10,2,FALSE))","v":""}]
[null,null,null,null,null,null,"",{"$f":"IF(ISBLANK(A276),\"\",B276&\"_\"&I276&\" \"&VLOOKUP(D276,ADMIN!$C$2:$E$10,3,FALSE))","v":""},{"$f":"IF(ISBLANK(A276),\"\",VLOOKUP(C276,ADMIN!$A$2:$B$22,2,FALSE))","v":""},{"$f":"IF(ISBLANK(A276),\"\",VLOOKUP(D276,ADMIN!$C$2:$D$10,2,FALSE))","v":""}]
[null,null,null,null,null,null,"",{"$f":"IF(ISBLANK(A277),\"\",B277&\"_\"&I277&\" \"&VLOOKUP(D277,ADMIN!$C$2:$E$10,3,FALSE))","v":""},{"$f":"IF(ISBLANK(A277),\"\",VLOOKUP(C277,ADMIN!$A$2:$B$22,2,FALSE))","v":""},{"$f":"IF(ISBLANK(A277),\"\",VLOOKUP(D277,ADMIN!$C$2:$D$10,2,FALSE))","v":""}]
[null,null,null,null,null,null,"",{"$f":"IF(ISBLANK(A278),\"\",B278&\"_\"&I278&\" \"&VLOOKUP(D278,ADMIN!$C$2:$E$10,3,FALSE))","v":""},{"$f":"IF(ISBLANK(A278),\"\",VLOOKUP(C278,ADMIN!$A$2:$B$22,2,FALSE))","v":""},{"$f":"IF(ISBLANK(A278),\"\",VLOOKUP(D278,ADMIN!$C$2:$D$10,2,FALSE))","v":""}]
[null,null,null,null,null,null,"",{"$f":"IF(ISBLANK(A279),\"\",B279&\"_\"&I279&\" \"&VLOOKUP(D279,ADMIN!$C$2:$E$10,3,FALSE))","v":""},{"$f":"IF(ISBLANK(A279),\"\",VLOOKUP(C279,ADMIN!$A$2:$B$22,2,FALSE))","v":""},{"$f":"IF(ISBLANK(A279),\"\",VLOOKUP(D279,ADMIN!$C$2:$D$10,2,FALSE))","v":""}]
[null,null,null,null,null,null,"",{"$f":"IF(ISBLANK(A280),\"\",B280&\"_\"&I280&\" \"&VLOOKUP(D280,ADMIN!$C$2:$E$10,3,FALSE))","v":""},{"$f":"IF(ISBLANK(A280),\"\",VLOOKUP(C280,ADMIN!$A$2:$B$22,2,FALSE))","v":""},{"$f":"IF(ISBLANK(A280),\"\",VLOOKUP(D280,ADMIN!$C$2:$D$10,2,FALSE))","v":""}]
[null,null,null,null,null,null,"",{"$f":"IF(ISBLANK(A281),\"\",B281&\"_\"&I281&\" \"&VLOOKUP(D281,ADMIN!$C$2:$E$10,3,FALSE))","v":""},{"$f":"IF(ISBLANK(A281),\"\",VLOOKUP(C281,ADMIN!$A$2:$B$22,2,FALSE))","v":""},{"$f":"IF(ISBLANK(A281),\"\",VLOOKUP(D281,ADMIN!$C$2:$D$10,2,FALSE))","v":""}]
[null,null,null,null,null,null,"",{"$f":"IF(ISBLANK(A282),\"\",B282&\"_\"&I282&\" \"&VLOOKUP(D282,ADMIN!$C$2:$E$10,3,FALSE))","v":""},{"$f":"IF(ISBLANK(A282),\"\",VLOOKUP(C282,ADMIN!$A$2:$B$22,2,FALSE))","v":""},{"$f":"IF(ISBLANK(A282),\"\",VLOOKUP(D282,ADMIN!$C$2:$D$10,2,FALSE))","v":""}]
[null,null,null,null,null,null,"",{"$f":"IF(ISBLANK(A283),\"\",B283&\"_\"&I283&\" \"&VLOOKUP(D283,ADMIN!$C$2:$E$10,3,FALSE))","v":""},{"$f":"IF(ISBLANK(A283),\"\",VLOOKUP(C283,ADMIN!$A$2:$B$22,2,FALSE))","v":""},{"$f":"IF(ISBLANK(A283),\"\",VLOOKUP(D283,ADMIN!$C$2:$D$10,2,FALSE))","v":""}]
[null,null,null,null,null,null,"",{"$f":"IF(ISBLANK(A284),\"\",B284&\"_\"&I284&\" \"&VLOOKUP(D284,ADMIN!$C$2:$E$10,3,FALSE))","v":""},{"$f":"IF(ISBLANK(A284),\"\",VLOOKUP(C284,ADMIN!$A$2:$B$22,2,FALSE))","v":""},{"$f":"IF(ISBLANK(A284),\"\",VLOOKUP(D284,ADMIN!$C$2:$D$10,2,FALSE))","v":""}]
[null,null,null,null,null,null,"",{"$f":"IF(ISBLANK(A285),\"\",B285&\"_\"&I285&\" \"&VLOOKUP(D285,ADMIN!$C$2:$E$10,3,FALSE))","v":""},{"$f":"IF(ISBLANK(A285),\"\",VLOOKUP(C285,ADMIN!$A$2:$B$22,2,FALSE))","v":""},{"$f":"IF(ISBLANK(A285),\"\",VLOOKUP(D285,ADMIN!$C$2:$D$10,2,FALSE))","v":""}]
[null,null,null,null,null,null,"",{"$f":"IF(ISBLANK(A286),\"\",B286&\"_\"&I286&\" \"&VLOOKUP(D286,ADMIN!$C$2:$E$10,3,FALSE))","v":""},{"$f":"IF(ISBLANK(A286),\"\",VLOOKUP(C286,ADMIN!$A$2:$B$22,2,FALSE))","v":""},{"$f":"IF(ISBLANK(A286),\"\",VLOOKUP(D286,ADMIN!$C$2:$D$10,2,FALSE))","v":""}]
[null,null,null,null,null,null,"",{"$f":"IF(ISBLANK(A287),\"\",B287&\"_\"&I287&\" \"&VLOOKUP(D287,ADMIN!$C$2:$E$10,3,FALSE))","v":""},{"$f":"IF(ISBLANK(A287),\"\",VLOOKUP(C287,ADMIN!$A$2:$B$22,2,FALSE))","v":""},{"$f":"IF(ISBLANK(A287),\"\",VLOOKUP(D287,ADMIN!$C$2:$D$10,2,FALSE))","v":""}]
[null,null,null,null,null,null,"",{"$f":"IF(ISBLANK(A288),\"\",B288&\"_\"&I288&\" \"&VLOOKUP(D288,ADMIN!$C$2:$E$10,3,FALSE))","v":""},{"$f":"IF(ISBLANK(A288),\"\",VLOOKUP(C288,ADMIN!$A$2:$B$22,2,FALSE))","v":""},{"$f":"IF(ISBLANK(A288),\"\",VLOOKUP(D288,ADMIN!$C$2:$D$10,2,FALSE))","v":""}]
[null,null,null,null,null,null,"",{"$f":"IF(ISBLANK(A289),\"\",B289&\"_\"&I289&\" \"&VLOOKUP(D289,ADMIN!$C$2:$E$10,3,FALSE))","v":""},{"$f":"IF(ISBLANK(A289),\"\",VLOOKUP(C289,ADMIN!$A$2:$B$22,2,FALSE))","v":""},{"$f":"IF(ISBLANK(A289),\"\",VLOOKUP(D289,ADMIN!$C$2:$D$10,2,FALSE))","v":""}]
[null,null,null,null,null,null,"",{"$f":"IF(ISBLANK(A290),\"\",B290&\"_\"&I290&\" \"&VLOOKUP(D290,ADMIN!$C$2:$E$10,3,FALSE))","v":""},{"$f":"IF(ISBLANK(A290),\"\",VLOOKUP(C290,ADMIN!$A$2:$B$22,2,FALSE))","v":""},{"$f":"IF(ISBLANK(A290),\"\",VLOOKUP(D290,ADMIN!$C$2:$D$10,2,FALSE))","v":""}]
[null,null,null,null,null,null,"",{"$f":"IF(ISBLANK(A291),\"\",B291&\"_\"&I291&\" \"&VLOOKUP(D291,ADMIN!$C$2:$E$10,3,FALSE))","v":""},{"$f":"IF(ISBLANK(A291),\"\",VLOOKUP(C291,ADMIN!$A$2:$B$22,2,FALSE))","v":""},{"$f":"IF(ISBLANK(A291),\"\",VLOOKUP(D291,ADMIN!$C$2:$D$10,2,FALSE))","v":""}]
[null,null,null,null,null,null,"",{"$f":"IF(ISBLANK(A292),\"\",B292&\"_\"&I292&\" \"&VLOOKUP(D292,ADMIN!$C$2:$E$10,3,FALSE))","v":""},{"$f":"IF(ISBLANK(A292),\"\",VLOOKUP(C292,ADMIN!$A$2:$B$22,2,FALSE))","v":""},{"$f":"IF(ISBLANK(A292),\"\",VLOOKUP(D292,ADMIN!$C$2:$D$10,2,FALSE))","v":""}]
[null,null,null,null,null,null,"",{"$f":"IF(ISBLANK(A293),\"\",B293&\"_\"&I293&\" \"&VLOOKUP(D293,ADMIN!$C$2:$E$10,3,FALSE))","v":""},{"$f":"IF(ISBLANK(A293),\"\",VLOOKUP(C293,ADMIN!$A$2:$B$22,2,FALSE))","v":""},{"$f":"IF(ISBLANK(A293),\"\",VLOOKUP(D293,ADMIN!$C$2:$D$10,2,FALSE))","v":""}]
[null,null,null,null,null,null,"",{"$f":"IF(ISBLANK(A294),\"\",B294&\"_\"&I294&\" \"&VLOOKUP(D294,ADMIN!$C$2:$E$10,3,FALSE))","v":""},{"$f":"IF(ISBLANK(A294),\"\",VLOOKUP(C294,ADMIN!$A$2:$B$22,2,FALSE))","v":""},{"$f":"IF(ISBLANK(A294),\"\",VLOOKUP(D294,ADMIN!$C$2:$D$10,2,FALSE))","v":""}]
[null,null,null,null,null,null,"",{"$f":"IF(ISBLANK(A295),\"\",B295&\"_\"&I295&\" \"&VLOOKUP(D295,ADMIN!$C$2:$E$10,3,FALSE))","v":""},{"$f":"IF(ISBLANK(A295),\"\",VLOOKUP(C295,ADMIN!$A$2:$B$22,2,FALSE))","v":""},{"$f":"IF(ISBLANK(A295),\"\",VLOOKUP(D295,ADMIN!$C$2:$D$10,2,FALSE))","v":""}]
[null,null,null,null,null,null,"",{"$f":"IF(ISBLANK(A296),\"\",B296&\"_\"&I296&\" \"&VLOOKUP(D296,ADMIN!$C$2:$E$10,3,FALSE))","v":""},{"$f":"IF(ISBLANK(A296),\"\",VLOOKUP(C296,ADMIN!$A$2:$B$22,2,FALSE))","v":""},{"$f":"IF(ISBLANK(A296),\"\",VLOOKUP(D296,ADMIN!$C$2:$D$10,2,FALSE))","v":""}]
[null,null,null,null,null,null,"",{"$f":"IF(ISBLANK(A297),\"\",B297&\"_\"&I297&\" \"&VLOOKUP(D297,ADMIN!$C$2:$E$10,3,FALSE))","v":""},{"$f":"IF(ISBLANK(A297),\"\",VLOOKUP(C297,ADMIN!$A$2:$B$22,2,FALSE))","v":""},{"$f":"IF(ISBLANK(A297),\"\",VLOOKUP(D297,ADMIN!$C$2:$D$10,2,FALSE))","v":""}]
[null,null,null,null,null,null,"",{"$f":"IF(ISBLANK(A298),\"\",B298&\"_\"&I298&\" \"&VLOOKUP(D298,ADMIN!$C$2:$E$10,3,FALSE))","v":""},{"$f":"IF(ISBLANK(A298),\"\",VLOOKUP(C298,ADMIN!$A$2:$B$22,2,FALSE))","v":""},{"$f":"IF(ISBLANK(A298),\"\",VLOOKUP(D298,ADMIN!$C$2:$D$10,2,FALSE))","v":""}]
[null,null,null,null,null,null,"",{"$f":"IF(ISBLANK(A299),\"\",B299&\"_\"&I299&\" \"&VLOOKUP(D299,ADMIN!$C$2:$E$10,3,FALSE))","v":""},{"$f":"IF(ISBLANK(A299),\"\",VLOOKUP(C299,ADMIN!$A$2:$B$22,2,FALSE))","v":""},{"$f":"IF(ISBLANK(A299),\"\",VLOOKUP(D299,ADMIN!$C$2:$D$10,2,FALSE))","v":""}]
[null,null,null,null,null,null,"",{"$f":"IF(ISBLANK(A300),\"\",B300&\"_\"&I300&\" \"&VLOOKUP(D300,ADMIN!$C$2:$E$10,3,FALSE))","v":""},{"$f":"IF(ISBLANK(A300),\"\",VLOOKUP(C300,ADMIN!$A$2:$B$22,2,FALSE))","v":""},{"$f":"IF(ISBLANK(A300),\"\",VLOOKUP(D300,ADMIN!$C$2:$D$10,2,FALSE))","v":""}]
["Do you really need more then 300 lines?"]